BEGIN:VCALENDAR
VERSION:2.0
PRODID:-//ChamberMaster//Event Calendar 2.0//EN
METHOD:PUBLISH
X-PUBLISHED-TTL:P3D
REFRESH-INTERVAL:P3D
CALSCALE:GREGORIAN
BEGIN:VEVENT
DTSTART:20170606T230000Z
DTEND:20170607T000000Z
X-MICROSOFT-CDO-ALLDAYEVENT:FALSE
SUMMARY:13th Anniversary Ribbon Cutting for Von Hanson's Meats & Spirits
DESCRIPTION:13th Anniversary Ribbon Cutting for Von Hanson's Meats & Spirits
X-ALT-DESC;FMTTYPE=text/html:13th Anniversary Ribbon Cutting for Von Hanson&#39\;s Meats &amp\; Spirits
LOCATION:2390 N Alma School Rd Chandler AZ 85224 North of Warner Rd in the Alma School Shoppes II
UID:e.1561.18893
SEQUENCE:3
DTSTAMP:20260424T093638Z
URL:https://business.chandlerchamber.com/events/details/13th-anniversary-ribbon-cutting-for-von-hanson-s-meats-spirits-18893
END:VEVENT

END:VCALENDAR
