BEGIN:VCALENDAR
VERSION:2.0
PRODID:-//ChamberMaster//Event Calendar 2.0//EN
METHOD:PUBLISH
X-PUBLISHED-TTL:P3D
REFRESH-INTERVAL:P3D
CALSCALE:GREGORIAN
BEGIN:VEVENT
DTSTART:20190418T183000Z
DTEND:20190419T010000Z
X-MICROSOFT-CDO-ALLDAYEVENT:FALSE
SUMMARY:17th annual George Rozsa Golf Classic featuring $1 million Shoot-Out and the Dignity Health Cup Tournament
DESCRIPTION:This year the Dignity Health Foundation - East Valley is adding a twist of fun to the usual charity golf event featuring a $1 million Shoot-Out and the Dignity Health Cup Tournament. Instead of traditional foursomes\, teams of two (2) will compete in various challenges throughout the day. We will start at 1pm with lunch and a 9-hole Par Three Challenge. Each team will have the opportunity to win a car\, vacation\, or $10\,000 cash prize by hitting a hole-in-one on the course. The person closest to the pin on each of the entire 36 holes will compete in a Shoot-Out for one chance to win a Million Dollars! Also as a part of the Cup Tournament\, the teams will compete in a Corn Hole Tournament and Skills Challenges to end the day.
X-ALT-DESC;FMTTYPE=text/html:This year the Dignity Health Foundation - East Valley is adding a twist of fun to the usual charity golf event featuring a $1 million Shoot-Out and the Dignity Health Cup Tournament. Instead of traditional foursomes\, teams of two (2) will compete in various challenges throughout the day. We will start at 1pm with lunch and a 9-hole Par Three Challenge. Each team will have the opportunity to win a car\, vacation\, or $10\,000 cash prize by hitting a hole-in-one on the course. The person closest to the pin on each of the entire 36 holes will compete in a Shoot-Out for one chance to win a Million Dollars! Also as a part of the Cup Tournament\, the teams will compete in a Corn Hole Tournament and Skills Challenges to end the day.
LOCATION:Whirlwind Golf Club\, 5692 W North Loop Rd\, Chandler\, AZ 85226
UID:e.1561.36133
SEQUENCE:3
DTSTAMP:20260423T033737Z
URL:https://business.chandlerchamber.com/events/details/17th-annual-george-rozsa-golf-classic-featuring-1-million-shoot-out-and-the-dignity-health-cup-tournament-36133
END:VEVENT

END:VCALENDAR
