BEGIN:VCALENDAR
VERSION:2.0
PRODID:-//ChamberMaster//Event Calendar 2.0//EN
METHOD:PUBLISH
X-PUBLISHED-TTL:P3D
REFRESH-INTERVAL:P3D
CALSCALE:GREGORIAN
BEGIN:VEVENT
DTSTART:20171004T210000Z
DTEND:20171005T010000Z
X-MICROSOFT-CDO-ALLDAYEVENT:FALSE
SUMMARY:2017 East Valley Business Expo
DESCRIPTION:CLICK HERE for more information.\n\nRegister before August 18th for a reduced rate and best booth locations.\n\n\n\nThe East Valley Business Expo takes place on October 4\, 2017 at the Mesa Convention Center\, 201 N. Center St. from 2:00 to 6:00 p.m.\n\nThis is the Southeast Valley's largest business expo of the year\, where more than 1\,000 guests attend the more than 120 exhibitor booths on site. It provides an incredible opportunity for networking\, business-to-business connections and business-to-consumer contacts. Door prizes\, an emcee\, guest speakers\, complimentary food from on-site restaurants and a cash bar keep the event exciting and engaging for exhibitors and attendees alike.\n\nBooths are available on a first-come\, first-served basis. Sales will open in mid-2017. Stay tuned to learn when the early bird rates open.\n\nAdmission for attendees is free with a business card. The Expo is produced by the Tempe\, Chandler\, Gilbert and Mesa Chambers of Commerce. For complete information or to register visit www.eastvalleybusinessexpo.com\n\nEvent Address:\n\nMesa Convention Center\n\n201 N. Center St.\n\nMesa\, AZ\n\n \n\nhttp://eastvalleybusinessexpo.com/
X-ALT-DESC;FMTTYPE=text/html:<p><a href="http://eastvalleybusinessexpo.com/">CLICK HERE</a> for more information.<br />\n<span style="color:red\;"><span style="font-family:calibri\,sans-serif\;"><span style="font-size:11.0pt\;">Register before August 18<sup>th</sup> for a reduced rate and best booth locations.</span></span></span></p>\n\n<p><br />\nThe East Valley Business Expo takes place on October 4\, 2017 at the Mesa Convention Center\, 201 N. Center St. from 2:00 to 6:00 p.m.<br />\nThis is the Southeast Valley&rsquo\;s largest business expo of the year\, where more than 1\,000 guests attend the more than 120 exhibitor booths on site. It provides an incredible opportunity for networking\, business-to-business connections and business-to-consumer contacts. Door prizes\, an emcee\, guest speakers\, complimentary food from on-site restaurants and a cash bar keep the event exciting and engaging for exhibitors and attendees alike.<br />\nBooths are available on a first-come\, first-served basis. Sales will open in mid-2017. Stay tuned to learn when the early bird rates open.<br />\nAdmission for attendees is free with a business card. The Expo is produced by the Tempe\, Chandler\, Gilbert and Mesa Chambers of Commerce. For complete information or to register visit www.eastvalleybusinessexpo.com<br />\nEvent Address:<br />\nMesa Convention Center<br />\n201 N. Center St.<br />\nMesa\, AZ<br />\n&nbsp\;<br />\n<a href="http://eastvalleybusinessexpo.com/">http://eastvalleybusinessexpo.com/</a></p>\n
LOCATION:Mesa Convention Center 201 N. Center St. Mesa\, AZ
UID:e.1561.19075
SEQUENCE:3
DTSTAMP:20260424T051043Z
URL:https://business.chandlerchamber.com/events/details/2017-east-valley-business-expo-19075
END:VEVENT

END:VCALENDAR
