BEGIN:VCALENDAR
VERSION:2.0
PRODID:-//ChamberMaster//Event Calendar 2.0//EN
METHOD:PUBLISH
X-PUBLISHED-TTL:P3D
REFRESH-INTERVAL:P3D
CALSCALE:GREGORIAN
BEGIN:VEVENT
DTSTART:20171028T150000Z
DTEND:20171028T193000Z
X-MICROSOFT-CDO-ALLDAYEVENT:FALSE
SUMMARY:2017 Senior & Family Conference
DESCRIPTION:Join the Senior Advocacy Group of Ahwatukee for the 2017 Senior and Family Conference - a special free event for older adults and families. Featuring education from area experts\, over 40 exhibitors\, breakfast\, snacks and raffle prizes\,
X-ALT-DESC;FMTTYPE=text/html:Join the Senior Advocacy Group of Ahwatukee for the 2017 Senior and Family Conference - a special free event for older adults and families. Featuring education from area experts\, over 40 exhibitors\, breakfast\, snacks and raffle prizes\,
LOCATION:Pecos Senior Center 17010 S 48th St. Phoenix\, AZ 85048
UID:e.1561.19193
SEQUENCE:3
DTSTAMP:20260424T035032Z
URL:https://business.chandlerchamber.com/events/details/2017-senior-family-conference-19193
END:VEVENT

END:VCALENDAR
