BEGIN:VCALENDAR
VERSION:2.0
PRODID:-//ChamberMaster//Event Calendar 2.0//EN
METHOD:PUBLISH
X-PUBLISHED-TTL:P3D
REFRESH-INTERVAL:P3D
CALSCALE:GREGORIAN
BEGIN:VEVENT
DTSTART:20180608T010000Z
DTEND:20180608T030000Z
X-MICROSOFT-CDO-ALLDAYEVENT:FALSE
SUMMARY:2018 City Council Candidate Forum
DESCRIPTION:The event will be held in the City Council Chambers at Chandler City Hall located at 88 E Chicago Street Chandler\, AZ 85225. The doors will open at 5:30 pm with the forum beginning at 6:00 pm.  The candidates involved will answer questions regarding their positions on issues relevant to the public in an interview with members of the Chamber's Good Government Committee.\n\nThe Chandler Chamber takes a proactive approach to government affairs that benefit the business community. The candidates involved will answer questions regarding their positions on issues relevant to the public in an interview with members of the Chamber's Good Government Committee.  The Candidate Forum will be moderated by Jim Sharpe\, Arizona's Morning News Co-Anchor from\, KTAR Morning News\, 92.3 FM.
X-ALT-DESC;FMTTYPE=text/html:The event will be held in the City Council Chambers at Chandler City Hall located at 88 E Chicago Street Chandler\, AZ 85225. The doors will open at 5:30 pm with the forum beginning at 6:00 pm.&nbsp\; The candidates involved will answer questions regarding their positions on issues relevant to the public in an interview with members of the Chamber&rsquo\;s Good Government Committee.<br />\n<span style="font-family:calibri\,sans-serif\;"><span style="font-size:11.0pt\;">The Chandler Chamber takes a proactive approach to government affairs that benefit the business community. The candidates involved will answer questions regarding their positions on issues relevant to the public in an interview with members of the Chamber&rsquo\;s Good Government Committee. &nbsp\;The Candidate Forum will be moderated by Jim Sharpe\, Arizona&rsquo\;s Morning News Co-Anchor from\, KTAR Morning News\, 92.3 FM.</span></span><br />\n&nbsp\;
LOCATION:Chandler City Hall Council Chambers 88 Chicago St Chandler\, AZ 85225
UID:e.1561.33673
SEQUENCE:3
DTSTAMP:20260423T180908Z
URL:https://business.chandlerchamber.com/events/details/2018-city-council-candidate-forum-33673
END:VEVENT

END:VCALENDAR
