BEGIN:VCALENDAR
VERSION:2.0
PRODID:-//ChamberMaster//Event Calendar 2.0//EN
METHOD:PUBLISH
X-PUBLISHED-TTL:P3D
REFRESH-INTERVAL:P3D
CALSCALE:GREGORIAN
BEGIN:VEVENT
DTSTART:20190314T140000Z
DTEND:20190314T190000Z
X-MICROSOFT-CDO-ALLDAYEVENT:FALSE
SUMMARY:2019 ADOT DBE and Small Business Transportation Expo
DESCRIPTION:ADOT along with Valley Metro\, Sky Harbor\, and City of Phoenix are the major partners who put this event on each year. The Expo hosts over 500 attendees in the local transportation industry. We anticipate over 50 exhibitors which will consists of sponsoring Prime Contractors and Consulting Engineering firms\, and public agencies and non-profit associations. This event creates the opportunity for small businesses\, primes\, public owners and the industry to meet and explore options to work together. The overall goal is to create engagement\, connections\, and opportunities.
X-ALT-DESC;FMTTYPE=text/html:ADOT along with Valley Metro\, Sky Harbor\, and City of Phoenix are the major partners who put this event on each year. The Expo hosts over 500 attendees in the local transportation industry. We anticipate over 50 exhibitors which will consists of sponsoring Prime Contractors and Consulting Engineering firms\, and public agencies and non-profit associations. This event creates the opportunity for small businesses\, primes\, public owners and the industry to meet and explore options to work together. The overall goal is to create engagement\, connections\, and opportunities.
LOCATION:Glendale Civic Center 5750 W Glenn Dr\, Glendale\, AZ 85301
UID:e.1561.36405
SEQUENCE:3
DTSTAMP:20260423T045739Z
URL:https://business.chandlerchamber.com/events/details/2019-adot-dbe-and-small-business-transportation-expo-36405
END:VEVENT

END:VCALENDAR
