BEGIN:VCALENDAR
VERSION:2.0
PRODID:-//ChamberMaster//Event Calendar 2.0//EN
METHOD:PUBLISH
X-PUBLISHED-TTL:P3D
REFRESH-INTERVAL:P3D
CALSCALE:GREGORIAN
BEGIN:VEVENT
DTSTART:20210605T000000Z
DTEND:20210605T023000Z
X-MICROSOFT-CDO-ALLDAYEVENT:FALSE
SUMMARY:2021 Community Awards Ceremony
DESCRIPTION:***Party packs have been shipped as of 6/1. If you are registering after 6/1- please call 480-963-4571 or email carly@chandlerchamber.com to coordinate a time to pick up your party pack.*** \n\n\n\n2021 Chandler Chamber of Commerce Community Awards: Celebrating Excellence\n\n\n\nJoin us for the virtual party of the year! We will be honoring this year's award recipients in a brand new virtual event platform! Guests will have the chance to celebrate the outstanding businesses and individuals and network with each other! New this year- each attendee will receive a party pack in the mail to continue the celebration at your home or office- with a raffle ticket for fun prizes included!\n\n\n\nWant to connect with other business professionals? Register to host one of our networking tables in the virtual lounge!\n\n\n\n\n\nJoin Us In Celebrating Our Award Recipients: \n\nMicro\, Small\, Medium & Large Business of the Year\n\nChamber Cup\n\nChandler Cup\n\nCommunity Cup\n\nJames R. Snedigar Public Safety Award\n\nBusiness Diversity Award\n\nVeteran's Advocate of the Year\n\nCUSD Administrator of the Year\n\nCUSD Educator of the Year\n\nCUSD Support Staff of the Year\n\nRed Apple Administrator of the Year\n\nRed Apple Educator of the Year\n\nRed Apple Support Staff of the Year \n\nChandler-Gilbert Community College Scholarship Recipients
X-ALT-DESC;FMTTYPE=text/html:<span style="font-size:14px\;"><strong><span style="font-size:28px\;"><span style="font-size:16px\;"><span style="color:#FF0000\;">***Party packs have been shipped as of 6/1. If you are registering after 6/1- please call 480-963-4571 or email carly@chandlerchamber.com to coordinate a time to pick up your party pack.***&nbsp\;</span></span><br />\n<br />\n2021 Chandler Chamber of Commerce Community Awards: <span style="color:#DAA520\;"><em>Celebrating Excellence</em></span></span><br />\n<br />\n<span style="font-size:18px\;">Join us for the virtual party of the year! We will be honoring this year&rsquo\;s award recipients in a brand new virtual event platform! Guests will have the chance to celebrate the outstanding businesses and individuals and network with each other! New this year- each attendee will receive a party pack in the mail to continue the celebration at your home or office- with a raffle ticket for fun prizes included!<br />\n<br />\nWant to connect with other business professionals? Register to host one of our networking tables in the virtual lounge!</span></strong></span><br />\n<br />\n<br />\n<strong><u><span style="font-size:20px\;">Join Us In&nbsp\;Celebrating Our Award Recipients: </span></u></strong><br />\n<span style="font-size:18px\;">Micro\, Small\, Medium &amp\; Large Business of the Year<br />\nChamber Cup<br />\nChandler Cup<br />\nCommunity Cup<br />\nJames R. Snedigar Public Safety Award<br />\nBusiness Diversity Award<br />\nVeteran&rsquo\;s Advocate of the Year<br />\nCUSD Administrator of the Year<br />\nCUSD Educator of the Year<br />\nCUSD Support Staff of the Year<br />\nRed Apple Administrator of the Year<br />\nRed Apple Educator of the Year<br />\nRed Apple Support Staff of the Year&nbsp\;<br />\nChandler-Gilbert Community College Scholarship Recipients</span>
LOCATION:Virtual Event- Please Register to Receive Login Instructions
UID:e.1561.39736
SEQUENCE:3
DTSTAMP:20260424T134308Z
URL:https://business.chandlerchamber.com/events/details/2021-community-awards-ceremony-39736
END:VEVENT

END:VCALENDAR
