BEGIN:VCALENDAR
VERSION:2.0
PRODID:-//ChamberMaster//Event Calendar 2.0//EN
METHOD:PUBLISH
X-PUBLISHED-TTL:P3D
REFRESH-INTERVAL:P3D
CALSCALE:GREGORIAN
BEGIN:VEVENT
DTSTART:20220402T000000Z
DTEND:20220402T053000Z
X-MICROSOFT-CDO-ALLDAYEVENT:FALSE
SUMMARY:2022 Chandler Jazz Festival
DESCRIPTION:Every April\, Downtown Chandler turns the spotlight on its jazz scene with the return of our annual Chandler Jazz Festival. In celebration of Jazz Appreciation Month\, the two-day festival hosts a stellar lineup of local talent\; spanning genres ranging from traditional and fusion rhythm to smooth jazz.\n\n\n\nThe free\, family-friendly festival features 15 hours of live performances across a range of genres including blues\, smooth\, jazz\, and fusion rhythm.\n\n\n\nGates open 60-minutes prior to the event evening and festivalgoers are encouraged to bring blankets and lawn chairs to the outdoor concert.
X-ALT-DESC;FMTTYPE=text/html:<span style="font-size:14px\;">Every April\, Downtown Chandler turns the spotlight on its jazz scene with the return of our annual Chandler Jazz Festival. In celebration of Jazz Appreciation Month\, the two-day festival hosts a stellar lineup of local talent\; spanning genres ranging from traditional and fusion rhythm to smooth jazz.<br />\n<br />\nThe free\, family-friendly festival features 15 hours of live performances across a range of genres including blues\, smooth\, jazz\, and fusion rhythm.<br />\n<br />\nGates open 60-minutes prior to the event evening and festivalgoers are encouraged to bring blankets and lawn chairs to the outdoor concert.</span>
LOCATION:Dr. AJ Chandler Park 3 S. Arizona Ave. Chandler\, AZ 85225
UID:e.1561.40621
SEQUENCE:3
DTSTAMP:20260423T222135Z
URL:https://business.chandlerchamber.com/events/details/2022-chandler-jazz-festival-40621
END:VEVENT

END:VCALENDAR
