BEGIN:VCALENDAR
VERSION:2.0
PRODID:-//ChamberMaster//Event Calendar 2.0//EN
METHOD:PUBLISH
X-PUBLISHED-TTL:P3D
REFRESH-INTERVAL:P3D
CALSCALE:GREGORIAN
BEGIN:VEVENT
DTSTART:20220913T230000Z
DTEND:20220914T003000Z
X-MICROSOFT-CDO-ALLDAYEVENT:FALSE
SUMMARY:2022 Chandler Unified School District Governing Board Candidate Debate
DESCRIPTION:2022 CUSD Governing Board Candidate Debate\n\n\n\nWATCH THE EVENT LIVE HERE!\n\n\n\nAn election as important as state and national\, is your Governing Board for the Chandler Unified School District election! With two seats open this election cycle and five candidates vying for the positions\, the Chandler Chamber of Commerce brings the CUSD Governing Board candidates to the stage for an engaging debate!\n\n\n\nThe Chamber's goal for this event is to help the community make informed decisions about the candidates and their views.\n\n\n\n4:00 PM - 4:30 PM Candidate Meet and Greet\n\n4:30 PM - 5:00 PM Debate\n\n\n\nCandidates in alphabetical order:\n\n	Lara Bruner (Incumbent)\n	Marilou Estes*\n	Charlotte Golla\n	Kurt Rohrs\n	Patti Serrano\n\n* Candidate Participating Virtually
X-ALT-DESC;FMTTYPE=text/html:<span style="font-size:20px\;"><strong>2022 CUSD Governing Board Candidate Debate</strong></span><br />\n<br />\n<span style="font-size:16px\;"><strong><a href="https://youtu.be/4ktIJBdYJkU">WATCH THE EVENT LIVE HERE!</a></strong><br />\n<br />\nAn election as important as state and national\, is your Governing Board for the Chandler Unified School District election! With two seats open this election cycle and five candidates vying for the positions\, the Chandler Chamber of Commerce brings the CUSD Governing Board candidates to the stage for an engaging debate!<br />\n<br />\nThe Chamber&#39\;s goal for this event is to help&nbsp\;</span><span style="font-size: 16px\;">the community make informed decisions about the candidates&nbsp\;</span><span style="font-size:16px\;">and their views.<br />\n<br />\n4:00 PM - 4:30 PM Candidate Meet and Greet<br />\n4:30 PM - 5:00 PM Debate<br />\n<br />\n<strong>Candidates in alphabetical order:</strong></span>\n<ul>\n	<li><span style="font-size:16px\;"><strong>Lara Bruner (Incumbent)</strong></span></li>\n	<li><span style="font-size: 16px\;"><strong>Marilou Estes*</strong></span></li>\n	<li><span style="font-size:16px\;"><strong>Charlotte Golla</strong></span></li>\n	<li><span style="font-size:16px\;"><strong>Kurt Rohrs</strong></span></li>\n	<li><span style="font-size:16px\;"><strong>Patti Serrano</strong></span></li>\n</ul>\n<span style="font-size:16px\;">* Candidate Participating Virtually&nbsp\;</span>
LOCATION:Chandler Unified School District 1525 W Frye RD Chandler\, AZ 85224
UID:e.1561.41076
SEQUENCE:3
DTSTAMP:20260424T051229Z
URL:https://business.chandlerchamber.com/events/details/2022-chandler-unified-school-district-governing-board-candidate-debate-41076
END:VEVENT

END:VCALENDAR
