BEGIN:VCALENDAR
VERSION:2.0
PRODID:-//ChamberMaster//Event Calendar 2.0//EN
METHOD:PUBLISH
X-PUBLISHED-TTL:P3D
REFRESH-INTERVAL:P3D
CALSCALE:GREGORIAN
BEGIN:VEVENT
DTSTART:20250114T140000Z
DTEND:20250114T160000Z
X-MICROSOFT-CDO-ALLDAYEVENT:FALSE
SUMMARY:23rd Annual East Valley Breakfast with the Governor 2025
DESCRIPTION:ATTENTION: This event has sold out. Join us in 2026 for the 24th-Annual Governor's Breakfast.\n\nThe East Valley Chambers of Commerce Alliance and PHX East Valley Partnership are pleased to present this distinguished annual event\, featuring the Governor's 'State of the State' address.\n\nGovernor Hobbs will discuss her vision for the State of Arizona in 2025 and beyond\, and will respond to attendees' questions about her legislative priorities.
X-ALT-DESC;FMTTYPE=text/html:<p><span style="color:#800080\;"><span style="font-size: 18px\;"><span style="font-family: arial\;"><strong>ATTENTION: This event has sold out. Join us in 2026 for the 24th-Annual Governor&#39\;s Breakfast.</strong></span></span></span></p>\n\n<p><span style="color:#000000\;"><span style="font-size:16px\;"><span style="font-family:arial\;">The East Valley Chambers of Commerce Alliance and PHX East Valley Partnership are pleased to present this distinguished annual event\, featuring the Governor&#39\;s &lsquo\;State of the State&rsquo\; address.</span></span></span></p>\n\n<p><span style="color:#000000\;"><span style="font-size:16px\;"><span style="font-family:arial\;">Governor Hobbs will discuss her vision for the State of Arizona in 2025 and beyond\, and will respond to attendees&#39\; questions about her legislative priorities.</span></span></span></p>\n<!-- notionvc: c1b4ccd7-0c33-4714-94a4-ef9260baeac0 -->
LOCATION:Delta by Marriott Phoenix-Mesa 200 North Centennial Way Mesa\, Arizona 85201
UID:e.1561.50629
SEQUENCE:3
DTSTAMP:20260424T153549Z
URL:https://business.chandlerchamber.com/events/details/23rd-annual-east-valley-breakfast-with-the-governor-2025-50629
END:VEVENT

END:VCALENDAR
