BEGIN:VCALENDAR
VERSION:2.0
PRODID:-//ChamberMaster//Event Calendar 2.0//EN
METHOD:PUBLISH
X-PUBLISHED-TTL:P3D
REFRESH-INTERVAL:P3D
CALSCALE:GREGORIAN
BEGIN:VEVENT
DTSTART:20241026T233000Z
DTEND:20241027T013000Z
X-MICROSOFT-CDO-ALLDAYEVENT:FALSE
SUMMARY:2nd ANNUAL FALL FESTIVAL
DESCRIPTION:Join Us for a Free Fall Festival at The SPEAK Center for Language & Learning We're excited to invite you to our Fall Festival\, a fun and inclusive event for everyone\, especially designed to be neurodivergent and sensory-friendly. This festival is all about community\, connection\, and making sure everyone feels welcome. Feel free to wear a creative and friendly costume! Event Highlights: Bounce House & Haunted House: A safe\, enjoyable experience for kids of all abilities. Games and Prizes: Golf\, best costume prize\, etc... Food and Drinks: Delicious food\, snacks\, and beverages to enjoy. Face Painting: Face painting fun for all ages. Sensory-Friendly Environment: Thoughtfully planned activities to ensure a comfortable experience for all. Trunk or Treating: No need to worry about decorating your own trunk The SPEAK Center has got you covered! We'll provide the treats and the decorated trunks for a fun and easy candy experience! Bring your family and friends for a day of fun and celebration at The SPEAK Center's Fall Festival. We can't wait to see you here!
X-ALT-DESC;FMTTYPE=text/html:Join Us for a Free Fall Festival at The SPEAK Center for Language &amp\; Learning We&rsquo\;re excited to invite you to our Fall Festival\, a fun and inclusive event for everyone\, especially designed to be neurodivergent and sensory-friendly. This festival is all about community\, connection\, and making sure everyone feels welcome. Feel free to wear a creative and friendly costume! Event Highlights: Bounce House &amp\; Haunted House: A safe\, enjoyable experience for kids of all abilities. Games and Prizes: Golf\, best costume prize\, etc... Food and Drinks: Delicious food\, snacks\, and beverages to enjoy. Face Painting: Face painting fun for all ages. Sensory-Friendly Environment: Thoughtfully planned activities to ensure a comfortable experience for all. Trunk or Treating: No need to worry about decorating your own trunk&mdash\;The SPEAK Center has got you covered! We&rsquo\;ll provide the treats and the decorated trunks for a fun and easy candy experience! Bring your family and friends for a day of fun and celebration at The SPEAK Center&#39\;s Fall Festival. We can&rsquo\;t wait to see you here!
LOCATION:The SPEAK Center: 501 W Ray Road Suite 1-2 Chandler AZ 85225
UID:e.1561.50649
SEQUENCE:3
DTSTAMP:20260420T033856Z
URL:https://business.chandlerchamber.com/events/details/2nd-annual-fall-festival-50649
END:VEVENT

END:VCALENDAR
