BEGIN:VCALENDAR
VERSION:2.0
PRODID:-//ChamberMaster//Event Calendar 2.0//EN
METHOD:PUBLISH
X-PUBLISHED-TTL:P3D
REFRESH-INTERVAL:P3D
CALSCALE:GREGORIAN
BEGIN:VEVENT
DTSTART:20180602T003000Z
DTEND:20180602T040000Z
X-MICROSOFT-CDO-ALLDAYEVENT:FALSE
SUMMARY:31st Annual Chandler Chamber Community Awards
DESCRIPTION:Chandler Community\, Come on Down!\n\n This year we celebrate the 31st Anniversary of the Chandler Chamber Community Awards and present\, "The Chamber is Right!" Join in on the fun with a game show theme and plenty of prizes and surprises as we honor our businesses\, educators and community.\n\n\n\nThis event honors local businesses and individuals for their outstanding contributions to the community through its Annual Community Awards. The Chandler Chamber Community Foundation awards scholarships to Chandler Gilbert Community College.
X-ALT-DESC;FMTTYPE=text/html:<p><span style="font-size:14px\;"><span style="font-family: arial\;">Chandler Community\, Come on Down!</span></span></p>\n\n<p><span style="font-size:14px\;"><span style="font-family: arial\;">&nbsp\;This year we celebrate the 31st&nbsp\;Anniversary of the Chandler Chamber Community Awards and present\, &quot\;The Chamber is Right!&quot\; Join in on the fun with a game show theme and plenty of prizes and surprises as we honor our businesses\, educators and community.<br />\n<br />\nThis event&nbsp\;honors local businesses and individuals for their outstanding contributions to the community through its Annual Community Awards. The Chandler Chamber Community Foundation awards scholarships to Chandler Gilbert Community College.</span></span></p>\n
LOCATION:Wild Horse Pass Hotel & Casino\, (Hotel is attached to the casino) 5040 Wild Horse Pass Blvd. Chandler\, AZ 85226 Maricopa Road and Interstate 10
UID:e.1561.20690
SEQUENCE:3
DTSTAMP:20260423T163730Z
URL:https://business.chandlerchamber.com/events/details/31st-annual-chandler-chamber-community-awards-20690
END:VEVENT

END:VCALENDAR
