BEGIN:VCALENDAR
VERSION:2.0
PRODID:-//ChamberMaster//Event Calendar 2.0//EN
METHOD:PUBLISH
X-PUBLISHED-TTL:P3D
REFRESH-INTERVAL:P3D
CALSCALE:GREGORIAN
BEGIN:VEVENT
DTSTART:20200216T170000Z
DTEND:20200217T010000Z
X-MICROSOFT-CDO-ALLDAYEVENT:FALSE
SUMMARY:32nd Annual Arizona Renaissance Festival
DESCRIPTION:Don't miss Raucous Revelry at the 32nd Annual Arizona Renaissance Festival Opening February 8th!\n\nThe Festival is a medieval amusement park\, a 14-stage theater\, a 30-acre circus\, an arts and crafts fair\, a jousting tournament and a feast -- all rolled into one non-stop\, day-long adventure. You never know what you will find on or off the stage!\n\n \n\nThis unique outdoor event combines entertainment and wares reminiscent of what may have been found in a 16th Century European village market celebrating the arrival of the King and Queen to their shire. Walk through our gates to be transported back in time. \n\n \n\nMingle with over 2\,000 costumed characters\, eat a giant roasted turkey leg\; take part in games of chance and skill\; cheer on your favorite knight\; Shop in over 200 artisan shops and select an inimitable gift for that special someone\; there is so much to see and do.\n\n \n\nEat Drink and be Merry is the order of the day at the Village of Fairhaven.  Join the celebration and revelry!\n\n\n\nThe Arizona Renaissance Festival is open Saturdays and Sundays Feb. 8   Mar. 29 and Presidents' Day Monday\, Feb. 17. Just East of Apache Junction\, on U.S. Highway 60! \n\n \n\nRenFestInfo.com
X-ALT-DESC;FMTTYPE=text/html:Don&#39\;t miss Raucous Revelry at the 32<sup>nd</sup> Annual Arizona Renaissance Festival Opening February 8th!<br />\nThe Festival is a medieval amusement park\, a 14-stage theater\, a 30-acre circus\, an arts and crafts fair\, a jousting tournament and a feast -- all rolled into one non-stop\, day-long adventure. You never know what you will find on or off the stage!<br />\n&nbsp\;<br />\nThis unique outdoor event combines entertainment and wares reminiscent of what may have been found in a 16th Century European village market celebrating the arrival of the King and Queen to their shire. Walk through our gates to be transported back in time.&nbsp\;<br />\n&nbsp\;<br />\nMingle with over 2\,000 costumed characters\, eat a giant roasted turkey leg\; take part in games of chance and skill\; cheer on your favorite knight\; Shop in over 200 artisan shops and select an inimitable gift for that special someone\; there is so much to see and do.<br />\n&nbsp\;<br />\nEat Drink and be Merry is the order of the day at the Village of Fairhaven.&nbsp\; Join the celebration and revelry!<br />\n<br />\nThe Arizona Renaissance Festival is open Saturdays and Sundays Feb. 8 &ndash\; Mar. 29 and Presidents&#39\; Day Monday\, Feb. 17. Just East of Apache Junction\, on U.S. Highway 60!&nbsp\;<br />\n&nbsp\;<br />\nRenFestInfo.com
LOCATION:12601 E. US Highway 60 Gold Canyon\, AZ 85118
UID:e.1561.37539
SEQUENCE:3
DTSTAMP:20260420T152515Z
URL:https://business.chandlerchamber.com/events/details/32nd-annual-arizona-renaissance-festival-02-16-2020-37539
END:VEVENT

END:VCALENDAR
