BEGIN:VCALENDAR
VERSION:2.0
PRODID:-//ChamberMaster//Event Calendar 2.0//EN
METHOD:PUBLISH
X-PUBLISHED-TTL:P3D
REFRESH-INTERVAL:P3D
CALSCALE:GREGORIAN
BEGIN:VEVENT
DTSTART:20190601T003000Z
DTEND:20190601T040000Z
X-MICROSOFT-CDO-ALLDAYEVENT:FALSE
SUMMARY:32nd Annual Chandler Chamber Community Awards
DESCRIPTION:This year we celebrate the 32nd Anniversary of the Chandler Chamber Community Awards! Join in on the fun with a game show theme and plenty of prizes and surprises as we honor our businesses\, educators and community.\n\n\n\nThis event honors local businesses and individuals for their outstanding contributions to the community through its Annual Community Awards. The Chandler Chamber Community Foundation awards scholarships to Chandler Gilbert Community College.\n\n\n\nWild Horse Pass Hotel & Casino is offering a special room rate of $69 + tax. To book your room\, please call: 520-796-4900 and ask for the Chandler Chamber rate. A credit card is required to make your reservation\, must be 21 years of age to confirm.
X-ALT-DESC;FMTTYPE=text/html:<p><span style="font-size: 14px\;"><span style="font-family: arial\;">This year we celebrate the 32nd&nbsp\;Anniversary of the Chandler Chamber Community Awards! Join in on the fun with a game show theme and plenty of prizes and surprises as we honor our businesses\, educators and community.<br />\n<br />\nThis event&nbsp\;honors local businesses and individuals for their outstanding contributions to the community through its Annual Community Awards. The Chandler Chamber Community Foundation awards scholarships to Chandler Gilbert Community College.<br />\n<br />\nWild Horse Pass Hotel &amp\; Casino is offering a special room rate of $69 + tax. To book your room\, please call: 520-796-4900 and ask for the Chandler Chamber rate. A credit card is required to make your reservation\, must be 21 years of age to confirm.&nbsp\;</span></span></p>\n
LOCATION:Wild Horse Pass Hotel & Casino\, (Hotel is attached to the casino) 5040 Wild Horse Pass Blvd. Chandler\, AZ 85226 Maricopa Road and Interstate 10
UID:e.1561.36658
SEQUENCE:3
DTSTAMP:20260423T033405Z
URL:https://business.chandlerchamber.com/events/details/32nd-annual-chandler-chamber-community-awards-36658
END:VEVENT

END:VCALENDAR
