BEGIN:VCALENDAR
VERSION:2.0
PRODID:-//ChamberMaster//Event Calendar 2.0//EN
METHOD:PUBLISH
X-PUBLISHED-TTL:P3D
REFRESH-INTERVAL:P3D
CALSCALE:GREGORIAN
BEGIN:VEVENT
DTSTART:20220603T003000Z
DTEND:20220603T033000Z
X-MICROSOFT-CDO-ALLDAYEVENT:FALSE
SUMMARY:35th Annual Chandler Chamber Community Awards
DESCRIPTION:This year we celebrate the 35th Anniversary of the Chandler Chamber Community Awards Presented by Gila River Resorts & Casinos! Join in on the fun as we honor our businesses\, educators and community.\n\n\n\nThis event honors local businesses and individuals for their outstanding contributions to the community through its Annual Community Awards. The Chandler Chamber Community Foundation awards scholarships to Chandler Gilbert Community College.\n\n \nIt's that time again! We get to celebrate YOU! The Chandler Chamber Community Awards recognizes the outstanding businesses\, first responders and educators our fine city has to offer. Don't hesitate to nominate yourself or your peers. Nominations are due to the Chandler Chamber ASAP!\n\n\n\nFor discounted room rates click here\n\n \n\nAwards:\n\nMicro Business of the Year - Mingle + Graze\n\nSmall Business of the Year - State Forty Eight\n\nMedium Business of the Year - Air Products\n\nLarge Business of the Year - Offerpad\n\nChamber Cup - Chandler/Gilbert Family YMCA\n\nCommunity Cup - Jon Lyons\n\nAmbassador of the Year - Renee Richeson\n\nJames R. Snedigar Public Safety Award - Lieutenant Jesus Deanda\n\nBusiness Diversity Award - Northrop Grumman\n\nCUSD School Administrator of the Year - Dr. Korry Brenner\n\nCUSD Educator of the Year - Dr. Michael McKelvy\n\nCUSD Support Staff of the Year - Cheri Smith\n\nRed Apple Award - Dr. Chris Fryar\n\nChandler-Gilbert Community College Scholarship Awards
X-ALT-DESC;FMTTYPE=text/html:<span style="font-size:22px\;"><span style="background:white\;"><span style="color:#333333\;"><span style="font-family:arial\,sans-serif\;">This year we celebrate the 35th Anniversary of the Chandler Chamber Community Awards Presented by Gila River Resorts &amp\; Casinos! Join in on the fun as we honor our businesses\, educators and community.</span></span></span><br style="font-variant-ligatures:normal\;font-variant-caps:normal\;orphans:2\;text-align:start\;widows:2\;-webkit-text-stroke-width:0px\;text-decoration-thickness:initial\;text-decoration-style:initial\;word-spacing:0px\;" />\n<br style="font-variant-ligatures:normal\;font-variant-caps:normal\;orphans:2\;text-align:start\;widows:2\;-webkit-text-stroke-width:0px\;text-decoration-thickness:initial\;text-decoration-style:initial\;word-spacing:0px\;" />\n<span style="color:#333333\;"><span style="font-family:arial\,sans-serif\;"><span style="background:white\;"><span style="font-variant-ligatures:normal\;font-variant-caps:normal\;orphans:2\;text-align:start\;widows:2\;-webkit-text-stroke-width:0px\;text-decoration-thickness:initial\;text-decoration-style:initial\;float:none\;word-spacing:0px\;">This event&nbsp\;honors local businesses and individuals for their outstanding contributions to the community through its Annual Community Awards. The Chandler Chamber Community Foundation awards scholarships to Chandler Gilbert Community College.</span></span></span></span></span><br />\n&nbsp\;\n<p style="box-sizing: border-box\; margin: 0px 0px 10px\; color: rgb(85\, 85\, 85)\; font-family: Montserrat\, sans-serif\; font-size: 16px\; background-color: rgb(255\, 255\, 255)\;">It&#39\;s that time again! We get to celebrate YOU! The Chandler Chamber Community Awards recognizes the outstanding businesses\, first responders and educators our fine city has to offer. Don&#39\;t hesitate to nominate yourself or your peers. Nominations are due to the Chandler Chamber ASAP!<br />\n<br />\n<strong>For discounted room rates click <a href="https://bookings.travelclick.com/75936?groupID=3524542#/guestsandrooms">here</a></strong></p>\n\n<p style="box-sizing: border-box\; margin: 0px 0px 10px\; color: rgb(85\, 85\, 85)\; font-family: Montserrat\, sans-serif\; font-size: 16px\; background-color: rgb(255\, 255\, 255)\;">&nbsp\;</p>\n\n<p style="box-sizing: border-box\; margin: 0px 0px 10px\; color: rgb(85\, 85\, 85)\; font-family: Montserrat\, sans-serif\; font-size: 16px\; background-color: rgb(255\, 255\, 255)\;"><strong style="box-sizing: border-box\;"><u style="box-sizing: border-box\;">Awards:</u></strong></p>\n\n<p style="box-sizing: border-box\; margin: 0px 0px 10px\; color: rgb(85\, 85\, 85)\; font-family: Montserrat\, sans-serif\; font-size: 16px\; background-color: rgb(255\, 255\, 255)\;">Micro Business of the Year - Mingle + Graze<br />\nSmall Business of the Year - State Forty Eight<br />\nMedium Business of the Year - Air Products<br />\nLarge Business of the Year - Offerpad<br />\nChamber Cup - Chandler/Gilbert Family YMCA<br />\nCommunity Cup - Jon Lyons<br />\nAmbassador of the Year - Renee Richeson<br />\nJames R. Snedigar Public Safety Award - Lieutenant Jesus Deanda<br />\nBusiness Diversity Award - Northrop Grumman<br />\nCUSD School Administrator of the Year - Dr. Korry Brenner<br />\nCUSD Educator of the Year - Dr. Michael McKelvy<br />\nCUSD Support Staff of the Year - Cheri Smith<br />\nRed Apple Award - Dr. Chris Fryar</p>\n\n<p style="box-sizing: border-box\; margin: 0px 0px 10px\; color: rgb(85\, 85\, 85)\; font-family: Montserrat\, sans-serif\; font-size: 16px\; background-color: rgb(255\, 255\, 255)\;">Chandler-Gilbert Community College Scholarship Awards</p>\n
LOCATION:Gila River Resorts & Casinos - Wild Horse Pass (Hotel is attached to the casino) 5040 Wild Horse Pass Blvd. Chandler\, AZ 85226 Maricopa Road and Interstate 10
UID:e.1561.40594
SEQUENCE:3
DTSTAMP:20260419T124504Z
URL:https://business.chandlerchamber.com/events/details/35th-annual-chandler-chamber-community-awards-40594
END:VEVENT

END:VCALENDAR
