BEGIN:VCALENDAR
VERSION:2.0
PRODID:-//ChamberMaster//Event Calendar 2.0//EN
METHOD:PUBLISH
X-PUBLISHED-TTL:P3D
REFRESH-INTERVAL:P3D
CALSCALE:GREGORIAN
BEGIN:VEVENT
DTSTART:20260529T000000Z
DTEND:20260529T050000Z
X-MICROSOFT-CDO-ALLDAYEVENT:FALSE
SUMMARY:39th Annual Chandler Chamber Community Awards
DESCRIPTION:Celebrating educators\, businesses\, & community leaders who make a difference in Chandler\, Arizona!\n\nThe Chandler Chamber Community Awards is a night dedicated to Chandler's brightest\, from startups that saw huge growth\, to teachers who fly above and beyond.\n\nAt this huge event\, we're awarding trophies and giving every winner the super-star treatment - from our Small Business of the Year to our James R. Snedigar Public Service Award recipient.\n\n \n\n \n\nThis year's awards include:\n\n\n	Support Staff of the Year: Honoring an outstanding Chandler Unified School District (CUSD) support staff member\n	Educator of the Year: Honoring an outstanding CUSD teacher\n	Administrator of the Year: Honoring an outstanding educator in the Chandler area\n	Chandler Red Apple Award: Honoring an outstanding educator in the Chandler area\n	Chandler Chamber Community Foundation Scholarships: $2\,500 towards tuition & fees at Chandler-Gilbert Community College\n	Ambassador of the Year: Honoring a highly-visible volunteer in the Chandler Chamber business community\n	James R. Snedigar Public Service Award: For a member of Chandler public safety who goes above & beyond the call of duty\n	Standing Ovation Award: For an innovative business or individual\n	Chamber Cup: For a business who has made significant contributions to the Chandler Chamber community\n	Community Cup: For a nonprofit or individual who has made outstanding contributions to the Chandler community\n	Chandler Cup: Selected by the Mayor of Chandler\n	Micro\, Small\, Medium\, & Large Businesses of the Year: For outstanding businesses who have provided significant contributions not only to the Chandler Chamber but to the entire Chandler community\n\n\nSave your seat - spots fill up fast!\n\n\n\n(Due to guarantees to the venue\, we are unable to offer refunds 7 days prior to the event.)
X-ALT-DESC;FMTTYPE=text/html:<p><span style="color:#000000\;"><span style="font-size:18px\;"><span style="font-family:arial\;"><strong>Celebrating educators\, businesses\, &amp\; community leaders who make a difference in Chandler\, Arizona!</strong></span></span></span></p>\n\n<p><span style="color:#000000\;"><span style="font-size:16px\;"><span style="font-family:arial\;">The Chandler Chamber Community Awards is a night dedicated to Chandler&rsquo\;s brightest\, from startups that saw huge growth\, to teachers who fly above and beyond.</span></span></span></p>\n\n<p style="margin: 0px\; text-size-adjust: none\; font-family: helvetica\, &quot\;helvetica neue&quot\;\, arial\, verdana\, sans-serif\; line-height: 24px\; color: rgb(0\, 0\, 0)\; font-size: 16px\;"><span style="color:#000000\;">At this huge event\, we&#39\;re awarding trophies and giving every winner the super-star treatment - from our&nbsp\;<u>Small Business of the Year</u>&nbsp\;to our&nbsp\;<u>James R. Snedigar Public Service Award</u>&nbsp\;recipient.</span></p>\n\n<p style="margin: 0px\; text-size-adjust: none\; font-family: helvetica\, &quot\;helvetica neue&quot\;\, arial\, verdana\, sans-serif\; line-height: 24px\; color: rgb(0\, 0\, 0)\; font-size: 16px\;">&nbsp\;</p>\n\n<p style="margin: 0px\; text-size-adjust: none\; font-family: helvetica\, &quot\;helvetica neue&quot\;\, arial\, verdana\, sans-serif\; line-height: 24px\; color: rgb(0\, 0\, 0)\; font-size: 16px\;">&nbsp\;</p>\n\n<p><span style="color:#000000\;"><span style="font-size:16px\;"><span style="font-family:arial\;"><strong>This year&rsquo\;s awards include:</strong></span></span></span></p>\n\n<ul>\n	<li><span style="color:#000000\;"><span style="font-size:16px\;"><span style="font-family:arial\;"><strong>Support Staff of the Year</strong>: Honoring an outstanding Chandler Unified School District (CUSD) support staff member</span></span></span></li>\n	<li><span style="color:#000000\;"><span style="font-size:16px\;"><span style="font-family:arial\;"><strong>Educator of the Year</strong>: Honoring an outstanding CUSD teacher</span></span></span></li>\n	<li><span style="color:#000000\;"><span style="font-size:16px\;"><span style="font-family:arial\;"><strong>Administrator of the Year</strong>: Honoring an outstanding educator in the Chandler area</span></span></span></li>\n	<li><span style="color:#000000\;"><span style="font-size:16px\;"><span style="font-family:arial\;"><strong>Chandler Red Apple Award</strong>: Honoring an outstanding educator in the Chandler area</span></span></span></li>\n	<li><span style="color:#000000\;"><span style="font-size:16px\;"><span style="font-family:arial\;"><strong>Chandler Chamber Community Foundation Scholarships</strong>: $2\,500 towards tuition &amp\; fees at Chandler-Gilbert Community College</span></span></span></li>\n	<li><span style="color:#000000\;"><span style="font-size:16px\;"><span style="font-family:arial\;"><strong>Ambassador of the Year</strong>: Honoring a highly-visible volunteer in the Chandler Chamber business community</span></span></span></li>\n	<li><span style="color:#000000\;"><span style="font-size:16px\;"><span style="font-family:arial\;"><strong>James R. Snedigar Public Service Award</strong>: For a member of Chandler public safety who goes above &amp\; beyond the call of duty</span></span></span></li>\n	<li><span style="color:#000000\;"><span style="font-size:16px\;"><span style="font-family:arial\;"><strong>Standing Ovation Award</strong>: For an innovative business or individual</span></span></span></li>\n	<li><span style="color:#000000\;"><span style="font-size:16px\;"><span style="font-family:arial\;"><strong>Chamber Cup</strong>: For a business who has made significant contributions to the Chandler Chamber community</span></span></span></li>\n	<li><span style="color:#000000\;"><span style="font-size:16px\;"><span style="font-family:arial\;"><strong>Community Cup</strong>: For a nonprofit or individual who has made outstanding contributions to the Chandler community</span></span></span></li>\n	<li><span style="color:#000000\;"><span style="font-size:16px\;"><span style="font-family:arial\;"><strong>Chandler Cup</strong>: Selected by the Mayor of Chandler</span></span></span></li>\n	<li><span style="color:#000000\;"><span style="font-size:16px\;"><span style="font-family:arial\;"><strong>Micro\, Small\, Medium\, &amp\; Large Businesses of the Year</strong>: For outstanding businesses who have provided significant contributions not only to the Chandler Chamber but to the entire Chandler community</span></span></span></li>\n</ul>\n\n<p><span style="color:#000000\;"><span style="font-size:16px\;"><span style="font-family:arial\;">Save your seat - spots fill up fast!<br />\n<br />\n(</span>Due to guarantees to the venue\, we are unable to offer refunds 7 days prior to the event.<!-- notionvc: 6192f8db-e70f-408a-a9b2-492028de4256 -->)</span></span></p>\n<!-- notionvc: 4f021e9a-6b14-4f7b-bd5e-04c36e049790 -->
LOCATION:Gila River Resorts & Casinos 5040 Wild Horse Pass Boulevard Chandler\, Arizona 85226
UID:e.1561.52181
SEQUENCE:3
DTSTAMP:20260420T183445Z
URL:https://business.chandlerchamber.com/events/details/39th-annual-chandler-chamber-community-awards-52181
END:VEVENT

END:VCALENDAR
