BEGIN:VCALENDAR
VERSION:2.0
PRODID:-//ChamberMaster//Event Calendar 2.0//EN
METHOD:PUBLISH
X-PUBLISHED-TTL:P3D
REFRESH-INTERVAL:P3D
CALSCALE:GREGORIAN
BEGIN:VEVENT
DTSTART:20190419T010000Z
DTEND:20190419T040000Z
X-MICROSOFT-CDO-ALLDAYEVENT:FALSE
SUMMARY:4 Course Wine Pairing Dinner
DESCRIPTION:4 Course Wine Pairing Dinner featuring Arizona's own Keeling Schaeffer Vineyard Wines. Come and meet Ron Keeling
X-ALT-DESC;FMTTYPE=text/html:4 Course Wine Pairing Dinner featuring Arizona&#39\;s own Keeling Schaeffer Vineyard Wines. Come and meet Ron Keeling
LOCATION:Garcia's Mexican Restaurant 1706 E Warner Rd\, Ste 3 Tempe\, AZ 85284
UID:e.1561.36662
SEQUENCE:3
DTSTAMP:20260423T143912Z
URL:https://business.chandlerchamber.com/events/details/4-course-wine-pairing-dinner-36662
END:VEVENT

END:VCALENDAR
