BEGIN:VCALENDAR
VERSION:2.0
PRODID:-//ChamberMaster//Event Calendar 2.0//EN
METHOD:PUBLISH
X-PUBLISHED-TTL:P3D
REFRESH-INTERVAL:P3D
CALSCALE:GREGORIAN
BEGIN:VEVENT
DTSTART:20171207T180000Z
DTEND:20171207T210000Z
X-MICROSOFT-CDO-ALLDAYEVENT:FALSE
SUMMARY:6 Steps to Creating a More Valuable and Sellable Business
DESCRIPTION:Kick your business into gear for 2018!\n\n\n\nWould you like more money in your pocket at the end of each month? Register for this event and learn time-tested principles of how to grow your business\, boost sales and massively increase your profits! Prepare yourself for greater success as you and other Arizona business owners will soon be experiencing massive revenue and profits within your business.\n\n\n\nFree up your time to focus on what is most important in your business. With a rock-solid sales & marketing machine\, your business will experience higher levels of sales and profits\, while creating raving fans. After this presentation\, your team will become a "high-performing team" which will allow you to leverage talent and build a cast-iron plan to ensure your goals are achieved!\n\n\n\nIf you are serious about your own success\, unwilling to settle for less\, then be sure to register for this workshop TODAY!\n\n\n\nYou will Learn how to :\n\n\n\n- Work ON your business instead of IN your business\n\n- Turn your advertising and marketing into an investment\, not an expense\n\n- Leverage your time to maximize efficiency and profits\n\n- Take immediate control of the time you spend at your business\n\n- Get the quality of life that you started your business for in the first place\n\n- Achieve Predictable and Profitable Growth\n\n- Boost your Profits by 61% or more\n\n- Increase the Value of Your Business\n\n- Make Your Products/Services Stand Out\n\n\n\nWork Smarter\, Not Harder! Reserve Your Seat(s) Today!\n\n\n\nhttp://bit.ly/2yK5ZiB?
X-ALT-DESC;FMTTYPE=text/html:<span style="color:rgb(75\, 79\, 86)\; font-family:sf optimized\,system-ui\,-apple-system\,system-ui\,.sfnstext-regular\,sans-serif\; font-size:14px">Kick your business into gear for 2018!</span><br />\n<br />\n<span style="color:rgb(75\, 79\, 86)\; font-family:sf optimized\,system-ui\,-apple-system\,system-ui\,.sfnstext-regular\,sans-serif\; font-size:14px">Would you like more money in your pocket at the end of each month? Register for this event and learn time-tested principles of how to grow your business\, boost sales and massively increase your profits! Prepare yourself for greater success as you and other Arizona business owners will soon be experiencing massive revenue and profits within your business.</span><br />\n<br />\n<span style="color:rgb(75\, 79\, 86)\; font-family:sf optimized\,system-ui\,-apple-system\,system-ui\,.sfnstext-regular\,sans-serif\; font-size:14px">Free up your time to focus on what is most important in your business. With a rock-solid sales &amp\; marketing machine\, your business will experience higher levels of sales and profits\, while creating raving fans. After this presentation\, your team will become a &quot\;high-performing team&quot\; which will allow you to leverage talent&nbsp\;and build a cast-iron plan to ensure your goals are achieved!<br />\n<br />\nIf you are serious about your own success\, unwilling to settle for less\, then be sure to register for this workshop TODAY!<br />\n<br />\nYou will Learn how to :<br />\n<br />\n- Work ON your business instead of IN your business<br />\n- Turn your advertising and marketing into an investment\, not an expense<br />\n- Leverage your time to maximize efficiency and profits<br />\n- Take immediate control of the time you spend at your business<br />\n- Get the quality of life that you started your business for in the first place<br />\n- Achieve Predictable and Profitable Growth<br />\n- Boost your Profits by 61% or more<br />\n- Increase the Value of Your Business<br />\n- Make Your Products/Services Stand Out<br />\n<br />\nWork Smarter\, Not Harder! Reserve Your Seat(s) Today!</span><br />\n<br />\nhttp://bit.ly/2yK5ZiB?
LOCATION:Desert Willow Conference Center 4340 E Cotton Center Blvd\, Phoenix\, Arizona 85040
UID:e.1561.19630
SEQUENCE:3
DTSTAMP:20260424T011142Z
URL:https://business.chandlerchamber.com/events/details/6-steps-to-creating-a-more-valuable-and-sellable-business-19630
END:VEVENT

END:VCALENDAR
