BEGIN:VCALENDAR
VERSION:2.0
PRODID:-//ChamberMaster//Event Calendar 2.0//EN
METHOD:PUBLISH
X-PUBLISHED-TTL:P3D
REFRESH-INTERVAL:P3D
CALSCALE:GREGORIAN
BEGIN:VEVENT
DTSTART:20200425T160000Z
DTEND:20200425T190000Z
X-MICROSOFT-CDO-ALLDAYEVENT:FALSE
SUMMARY:6th Annual Fore The Kids Charity Golf Tournament
DESCRIPTION:6th Annual Fore The Kids Charity Golf Tournament! New Horizon Community Care is a non-profit agency dedicated to the care and welfare of its youth and adults. Established in January of 2001\, NHCC has provided a safe haven for individuals who are struggling with various challenges. We are hosting our 6th Annual Fore the Kids Charity Golf Tournament on April 25\, 2020 at TopGolf in Gilbert\, AZ from 9 am   Noon. $75 per person for Golf & Lunch or $32 per person for Lunch Only. All funds raised will be used to provide our kids with new clothes and shoes\, fun activities and outings. For registration and sponsorship opportunities\, please visit our events page for more information https://nhccservices.org/events/
X-ALT-DESC;FMTTYPE=text/html:6th Annual Fore The Kids Charity Golf Tournament! New Horizon Community Care is a non-profit agency dedicated to the care and welfare of its youth and adults. Established in January of 2001\, NHCC has provided a safe haven for individuals who are struggling with various challenges. We are hosting our 6th Annual Fore the Kids Charity Golf Tournament on April 25\, 2020 at TopGolf in Gilbert\, AZ from 9 am &ndash\; Noon. $75 per person for Golf &amp\; Lunch or $32 per person for Lunch Only. All funds raised will be used to provide our kids with new clothes and shoes\, fun activities and outings. For registration and sponsorship opportunities\, please visit our events page for more information https://nhccservices.org/events/
LOCATION:TopGolf - Gilbert\, AZ
UID:e.1561.38928
SEQUENCE:3
DTSTAMP:20260424T152536Z
URL:https://business.chandlerchamber.com/events/details/6th-annual-fore-the-kids-charity-golf-tournament-38928
END:VEVENT

END:VCALENDAR
