BEGIN:VCALENDAR
VERSION:2.0
PRODID:-//ChamberMaster//Event Calendar 2.0//EN
METHOD:PUBLISH
X-PUBLISHED-TTL:P3D
REFRESH-INTERVAL:P3D
CALSCALE:GREGORIAN
BEGIN:VEVENT
DTSTART:20200329T143000Z
DTEND:20200329T230000Z
X-MICROSOFT-CDO-ALLDAYEVENT:FALSE
SUMMARY:6th Annual Sun Devil Gymnastics Golf Tournament Championship Weekend
DESCRIPTION:18 holes of golf\, alumni lunch\, and drinks!\n\nCome to support Arizona State University Men's Gymnastics team at Ocotillo Golf Club in teams of up to 4!
X-ALT-DESC;FMTTYPE=text/html:<strong><span style="font-size:18px\;">18 holes of golf\, alumni lunch\, and drinks!</span></strong><br />\n<span style="font-size:14px\;">Come to support Arizona State University Men&#39\;s Gymnastics team at Ocotillo Golf Club in teams of up to 4!</span>
LOCATION:Ocotillo Golf Club 3751 S Clubhouse Dr Chandler\, AZ 85248
UID:e.1561.38924
SEQUENCE:3
DTSTAMP:20260424T163430Z
URL:https://business.chandlerchamber.com/events/details/6th-annual-sun-devil-gymnastics-golf-tournament-championship-weekend-38924
END:VEVENT

END:VCALENDAR
