BEGIN:VCALENDAR
VERSION:2.0
PRODID:-//ChamberMaster//Event Calendar 2.0//EN
METHOD:PUBLISH
X-PUBLISHED-TTL:P3D
REFRESH-INTERVAL:P3D
CALSCALE:GREGORIAN
BEGIN:VEVENT
DTSTART:20260510T010000Z
DTEND:20260510T050000Z
X-MICROSOFT-CDO-ALLDAYEVENT:FALSE
SUMMARY:8 Second Saturday Rodeo
DESCRIPTION:This thrilling showdeo is jam packed with mutton bustin'\, calf riding\, steer riding\, and bull riding\, as well as family-friendly yard games\, inflatables\, food trucks\, bars\, giveaways\, live music\, and so much more! Enjoy live music performances by local country bands! May 9th\, 2026 Bobby Joe Bell performs.\n\n\n\nAround the event:\n\n\n	MC/DJ Entertainment\n	Fun Inflatables\n	Yard Games\n	Giveaways\n	Desserts\n	Full Bars
X-ALT-DESC;FMTTYPE=text/html:<p style="border-width: 0px\; border-style: solid\; border-color: currentcolor\; box-sizing: border-box\; margin: 0px 0px 35px\; text-rendering: optimizelegibility\; font-family: canada-type-gibson\, sans-serif\; font-size: 18px\; line-height: 1.66\;">This thrilling showdeo is jam packed with mutton bustin&#39\;\, calf riding\, steer riding\, and bull riding\, as well as family-friendly yard games\, inflatables\, food trucks\, bars\, giveaways\, live music\, and so much more! Enjoy live music performances by local country bands! May 9th\, 2026 Bobby Joe Bell performs.<br style="border-width: 0px\; border-style: solid\; border-color: currentcolor\; box-sizing: border-box\;" />\n<br style="border-width: 0px\; border-style: solid\; border-color: currentcolor\; box-sizing: border-box\;" />\nAround the event:</p>\n\n<ul style="border-width: 0px\; border-style: solid\; border-color: currentcolor\; box-sizing: border-box\; list-style-position: initial\; list-style-image: initial\; margin: 0px 0px 35px\; padding-right: 0px\; text-rendering: optimizelegibility\; font-family: canada-type-gibson\, sans-serif\; font-size: 18px\;">\n	<li style="border-width: 0px\; border-style: solid\; border-color: currentcolor\; box-sizing: border-box\; line-height: 1.66\;">MC/DJ Entertainment</li>\n	<li style="border-width: 0px\; border-style: solid\; border-color: currentcolor\; box-sizing: border-box\; line-height: 1.66\;">Fun Inflatables</li>\n	<li style="border-width: 0px\; border-style: solid\; border-color: currentcolor\; box-sizing: border-box\; line-height: 1.66\;">Yard Games</li>\n	<li style="border-width: 0px\; border-style: solid\; border-color: currentcolor\; box-sizing: border-box\; line-height: 1.66\;">Giveaways</li>\n	<li style="border-width: 0px\; border-style: solid\; border-color: currentcolor\; box-sizing: border-box\; line-height: 1.66\;">Desserts</li>\n	<li style="border-width: 0px\; border-style: solid\; border-color: currentcolor\; box-sizing: border-box\; line-height: 1.66\;">Full Bars</li>\n</ul>\n
LOCATION:Rawhide Western Town and Event Center 5244 S 48th Street Chandler\, AZ 85226
UID:e.1561.52322
SEQUENCE:3
DTSTAMP:20260422T184706Z
URL:https://business.chandlerchamber.com/events/details/8-second-saturday-rodeo-52322
END:VEVENT

END:VCALENDAR
