BEGIN:VCALENDAR
VERSION:2.0
PRODID:-//ChamberMaster//Event Calendar 2.0//EN
METHOD:PUBLISH
X-PUBLISHED-TTL:P3D
REFRESH-INTERVAL:P3D
CALSCALE:GREGORIAN
BEGIN:VEVENT
DTSTART;VALUE=DATE:20171110
DTEND;VALUE=DATE:20171112
TRANSP:TRANSPARENT
X-MICROSOFT-CDO-ALLDAYEVENT:TRUE
SUMMARY:8th Annual Chandler Chuck Wagon Cook-off
DESCRIPTION:Experience a rare\, up-close look at Western history during this FREE\, family-friendly culinary event. On Friday\, youth compete in the Jr. Cook-off with live music\, farmer's market\, unique vendors\, and small plates throughout the day. The evening concludes with a family campfire with s'mores\, featuring singer Chip Hanna. On Saturday\, authentic 1880s chuck wagon teams from around the West use historic cooking methods to create the best meals fit for the trail. Wagon teams win prizes in various food categories and the public can purchase these unique chuck wagon meals. Saturday lunch meal tickets are $15 and go on sale at 10 am\, November 11. Meal tickets sell out quickly! New this year   attendees can purchase advanced tickets online for a chuck wagon-style meal provided by a local caterer for $20. Enjoy Western history\, cooking demonstrations\, unique vendors and live music from Valley Fever   Pick and Holler\, Barefoot and Pregnant and August Manley's Waylon Jennings Tribute Band. Hosted by the Chandler Museum and Pardners of Tumbleweed Ranch\, a 501c3 entity. Funds raised help develop educational outreach opportunities at Tumbleweed Ranch.
X-ALT-DESC;FMTTYPE=text/html:Experience a rare\, up-close look at Western history during this FREE\, family-friendly culinary event. On Friday\, youth compete in the Jr. Cook-off with live music\, farmer&rsquo\;s market\, unique vendors\, and small plates throughout the day. The evening concludes with a family campfire with s&rsquo\;mores\, featuring singer Chip Hanna. On Saturday\, authentic 1880s chuck wagon teams from around the West use historic cooking methods to create the best meals fit for the trail. Wagon teams win prizes in various food categories and the public can purchase these unique chuck wagon meals. Saturday lunch meal tickets are $15 and go on sale at 10 am\, November 11. Meal tickets sell out quickly! New this year &ndash\; attendees can purchase advanced tickets online for a chuck wagon-style meal provided by a local caterer for $20. Enjoy Western history\, cooking demonstrations\, unique vendors and live music from Valley Fever &ndash\; Pick and Holler\, Barefoot and Pregnant and August Manley&rsquo\;s Waylon Jennings Tribute Band. Hosted by the Chandler Museum and Pardners of Tumbleweed Ranch\, a 501c3 entity. Funds raised help develop educational outreach opportunities at Tumbleweed Ranch.
LOCATION:Tumbleweed Ranch at southeast corner of Tumbleweed Park\, 2250 S. McQueen\, Chandler AZ 85286
UID:e.1561.19139
SEQUENCE:3
DTSTAMP:20260424T034641Z
URL:https://business.chandlerchamber.com/events/details/8th-annual-chandler-chuck-wagon-cook-off-19139
END:VEVENT

END:VCALENDAR
