BEGIN:VCALENDAR
VERSION:2.0
PRODID:-//ChamberMaster//Event Calendar 2.0//EN
METHOD:PUBLISH
X-PUBLISHED-TTL:P3D
REFRESH-INTERVAL:P3D
CALSCALE:GREGORIAN
BEGIN:VEVENT
DTSTART:20190503T000000Z
DTEND:20190503T020000Z
X-MICROSOFT-CDO-ALLDAYEVENT:FALSE
SUMMARY:8th Annual Ultimate Event @ FORM Prosperity
DESCRIPTION:Join the Chandler Chamber at the 8th Annual Ultimate Event for\n\nFORM Prosperity
X-ALT-DESC;FMTTYPE=text/html:Join the Chandler Chamber at the 8th Annual Ultimate Event for<br />\nFORM Prosperity<br />\n<br />\n&nbsp\;
LOCATION:FORM Prosperity 1490 S Price Rd Chandler\, AZ 85286 (SW corner Price/Willis)
UID:e.1561.36291
SEQUENCE:3
DTSTAMP:20260423T033047Z
URL:https://business.chandlerchamber.com/events/details/8th-annual-ultimate-event-form-prosperity-36291
END:VEVENT

END:VCALENDAR
