BEGIN:VCALENDAR
VERSION:2.0
PRODID:-//ChamberMaster//Event Calendar 2.0//EN
METHOD:PUBLISH
X-PUBLISHED-TTL:P3D
REFRESH-INTERVAL:P3D
CALSCALE:GREGORIAN
BEGIN:VEVENT
DTSTART:20200208T170000Z
DTEND:20200208T220000Z
X-MICROSOFT-CDO-ALLDAYEVENT:FALSE
SUMMARY:9th Annual Science Saturday
DESCRIPTION:
X-ALT-DESC;FMTTYPE=text/html:
LOCATION:Dr. A.J Chandler Park Stage Plaza
UID:e.1561.38871
SEQUENCE:3
DTSTAMP:20260420T150810Z
URL:https://business.chandlerchamber.com/events/details/9th-annual-science-saturday-38871
END:VEVENT

END:VCALENDAR
