BEGIN:VCALENDAR
VERSION:2.0
PRODID:-//ChamberMaster//Event Calendar 2.0//EN
METHOD:PUBLISH
X-PUBLISHED-TTL:P3D
REFRESH-INTERVAL:P3D
CALSCALE:GREGORIAN
BEGIN:VEVENT
DTSTART:20150910T140000Z
DTEND:20150910T160000Z
X-MICROSOFT-CDO-ALLDAYEVENT:FALSE
SUMMARY:9th Annual Y Morning of Prayer
DESCRIPTION:Come join leaders in the community and attend this interfaith event. Special speakers this year include the Mayor of Chandler\, the Mayor of Gilbert and AZ D-Back Nick Ahmed! Come have a hot buffet breakfast\, hear live music and leave inspired! Check out our short vimeo from last year: https://vimeo.com/127939308
X-ALT-DESC;FMTTYPE=text/html:Come join leaders in the community and attend this interfaith event. Special speakers this year include the Mayor of Chandler\, the Mayor of Gilbert and AZ D-Back Nick Ahmed! Come have a hot buffet breakfast\, hear live music and leave inspired! Check out our short vimeo from last year: https://vimeo.com/127939308
LOCATION:Chandler/Gilbert YMCA 1655 W. Frye Road Chandler\, AZ 85224
UID:e.1561.13158
SEQUENCE:3
DTSTAMP:20260425T170346Z
URL:https://business.chandlerchamber.com/events/details/9th-annual-y-morning-of-prayer-09-10-2015-13158
END:VEVENT

END:VCALENDAR
