BEGIN:VCALENDAR
VERSION:2.0
PRODID:-//ChamberMaster//Event Calendar 2.0//EN
METHOD:PUBLISH
X-PUBLISHED-TTL:P3D
REFRESH-INTERVAL:P3D
CALSCALE:GREGORIAN
BEGIN:VEVENT
DTSTART:20180712T173000Z
DTEND:20180712T180000Z
X-MICROSOFT-CDO-ALLDAYEVENT:FALSE
SUMMARY:A Cup of Joey
DESCRIPTION:Join our Chamber members Contreras State Farm Agency\, Wrangler News\, and Down Under Foods for a cup of Joey on Thursday mornings!
X-ALT-DESC;FMTTYPE=text/html:Join our Chamber members Contreras State Farm Agency\, Wrangler News\, and Down Under Foods for a cup of Joey on Thursday mornings!
LOCATION:2145 E Warner Rd\, Tempe 85284
UID:e.1561.20731
SEQUENCE:3
DTSTAMP:20260423T151046Z
URL:https://business.chandlerchamber.com/events/details/a-cup-of-joey-07-12-2018-20731
END:VEVENT

END:VCALENDAR
