BEGIN:VCALENDAR
VERSION:2.0
PRODID:-//ChamberMaster//Event Calendar 2.0//EN
METHOD:PUBLISH
X-PUBLISHED-TTL:P3D
REFRESH-INTERVAL:P3D
CALSCALE:GREGORIAN
BEGIN:VEVENT
DTSTART:20180920T173000Z
DTEND:20180920T180000Z
X-MICROSOFT-CDO-ALLDAYEVENT:FALSE
SUMMARY:A Cup of Joey
DESCRIPTION:Join our Chamber members Contreras State Farm Agency\, Wrangler News\, and Down Under Foods for a cup of Joey on Thursday mornings!
X-ALT-DESC;FMTTYPE=text/html:Join our Chamber members Contreras State Farm Agency\, Wrangler News\, and Down Under Foods for a cup of Joey on Thursday mornings!
LOCATION:2145 E Warner Rd\, Tempe 85284
UID:e.1561.20741
SEQUENCE:3
DTSTAMP:20260423T124438Z
URL:https://business.chandlerchamber.com/events/details/a-cup-of-joey-09-20-2018-20741
END:VEVENT

END:VCALENDAR
