BEGIN:VCALENDAR
VERSION:2.0
PRODID:-//ChamberMaster//Event Calendar 2.0//EN
METHOD:PUBLISH
X-PUBLISHED-TTL:P3D
REFRESH-INTERVAL:P3D
CALSCALE:GREGORIAN
BEGIN:VEVENT
DTSTART:20190314T010000Z
DTEND:20190314T040000Z
X-MICROSOFT-CDO-ALLDAYEVENT:FALSE
SUMMARY:A Historic Evening with Anne Frank's Stepsister Eva Schloss
DESCRIPTION:Chabad of the East Valley presents a historic evening with Anne Frank's stepsister\, Eva Schloss! Learning from the past\, Living in the present\, Looking into the future!
X-ALT-DESC;FMTTYPE=text/html:Chabad of the East Valley presents a historic evening with Anne Frank&rsquo\;s stepsister\, Eva Schloss! Learning from the past\, Living in the present\, Looking into the future!
LOCATION:Chandler Center For the Arts 250 N Arizona Ave Chandler\, AZ 85225
UID:e.1561.36621
SEQUENCE:3
DTSTAMP:20260423T045902Z
URL:https://business.chandlerchamber.com/events/details/a-historic-evening-with-anne-frank-s-stepsister-eva-schloss-36621
END:VEVENT

END:VCALENDAR
