BEGIN:VCALENDAR
VERSION:2.0
PRODID:-//ChamberMaster//Event Calendar 2.0//EN
METHOD:PUBLISH
X-PUBLISHED-TTL:P3D
REFRESH-INTERVAL:P3D
CALSCALE:GREGORIAN
BEGIN:VEVENT
DTSTART:20180828T160000Z
DTEND:20180828T180000Z
X-MICROSOFT-CDO-ALLDAYEVENT:FALSE
SUMMARY:A Non-Technical Dive into: Blockchain
DESCRIPTION:Blockchain & Crypto Markets Blockchain is a continuously growing list of records\, called blocks\, which are linked and secured using cryptography. It is changing the business world as we know it and this technology could have huge implications on money\, business\, and the world. It also may be a way to provide security and privacy. Join Steve Murphy for a experiential\, non-technical dive into this exciting segment of business technology as he educates us on: What is Blockchain? How Does Blockchain Work? Crypto Markets Regulatory Status Steve will provide real world perspective around the use of this technology for those who want to understand the implications to your business.
X-ALT-DESC;FMTTYPE=text/html:Blockchain &amp\; Crypto Markets Blockchain is a continuously growing list of records\, called blocks\, which are linked and secured using cryptography. It is changing the business world as we know it and this technology could have huge implications on money\, business\, and the world. It also may be a way to provide security and privacy. Join Steve Murphy for a experiential\, non-technical dive into this exciting segment of business technology as he educates us on: What is Blockchain? How Does Blockchain Work? Crypto Markets Regulatory Status Steve will provide real world perspective around the use of this technology for those who want to understand the implications to your business.
LOCATION:Chandler Innovations 249 E Chicago St\, Chandler
UID:e.1561.34150
SEQUENCE:3
DTSTAMP:20260423T135405Z
URL:https://business.chandlerchamber.com/events/details/a-non-technical-dive-into-blockchain-34150
END:VEVENT

END:VCALENDAR
