BEGIN:VCALENDAR
VERSION:2.0
PRODID:-//ChamberMaster//Event Calendar 2.0//EN
METHOD:PUBLISH
X-PUBLISHED-TTL:P3D
REFRESH-INTERVAL:P3D
CALSCALE:GREGORIAN
BEGIN:VEVENT
DTSTART:20150919T190000Z
DTEND:20150919T190000Z
X-MICROSOFT-CDO-ALLDAYEVENT:FALSE
SUMMARY:AAA and SafeKids Car Seat Check event
DESCRIPTION:AAA Arizona\, in partnership with SafeKids Maricopa County will perform a Car Seat Check event in Chandler. We will have bilingual child passenger safety technicians ready to help families
X-ALT-DESC;FMTTYPE=text/html:AAA Arizona\, in partnership with SafeKids Maricopa County will perform a Car Seat Check event in Chandler. We will have bilingual child passenger safety technicians ready to help families
LOCATION:AAA Chandler branch offices\, located on 4040 W. Ray Road\, Suite 2 Chandler\, AZ 85226
UID:e.1561.13177
SEQUENCE:3
DTSTAMP:20260425T170110Z
URL:https://business.chandlerchamber.com/events/details/aaa-and-safekids-car-seat-check-event-09-19-2015-13177
END:VEVENT

END:VCALENDAR
