BEGIN:VCALENDAR
VERSION:2.0
PRODID:-//ChamberMaster//Event Calendar 2.0//EN
METHOD:PUBLISH
X-PUBLISHED-TTL:P3D
REFRESH-INTERVAL:P3D
CALSCALE:GREGORIAN
BEGIN:VEVENT
DTSTART:20180606T010000Z
DTEND:20180606T030000Z
X-MICROSOFT-CDO-ALLDAYEVENT:FALSE
SUMMARY:Accounting and Bookkeeping
DESCRIPTION:Proper accounting and booking are essential for the health of your business! The course explains how to prepare and use the three primary financial statements: balance sheet\, income statement\, and statement of owners equity. In addition\, you will learn where you may need assistance and what are your legal reporting obligations.
X-ALT-DESC;FMTTYPE=text/html:Proper accounting and booking are essential for the health of your business! The course explains how to prepare and use the three primary financial statements: balance sheet\, income statement\, and statement of owners equity. In addition\, you will learn where you may need assistance and what are your legal reporting obligations.
LOCATION:Workuity 2390 E Camelback Rd Suite 130 Phoenix\, AZ\, 85016
UID:e.1561.33670
SEQUENCE:3
DTSTAMP:20260423T163259Z
URL:https://business.chandlerchamber.com/events/details/accounting-and-bookkeeping-33670
END:VEVENT

END:VCALENDAR
