BEGIN:VCALENDAR
VERSION:2.0
PRODID:-//ChamberMaster//Event Calendar 2.0//EN
METHOD:PUBLISH
X-PUBLISHED-TTL:P3D
REFRESH-INTERVAL:P3D
CALSCALE:GREGORIAN
BEGIN:VEVENT
DTSTART:20171028T010000Z
DTEND:20171028T060000Z
X-MICROSOFT-CDO-ALLDAYEVENT:FALSE
SUMMARY:Adults Only Halloween Costume Party
DESCRIPTION:Join us for an amazing Halloween Costume Party at The Forum! Free Food and Live Music by Group Therapy! There will be a costume contest and lots of fun!
X-ALT-DESC;FMTTYPE=text/html:Join us for an amazing Halloween Costume Party at The Forum! Free Food and Live Music by Group Therapy! There will be a costume contest and lots of fun!
LOCATION:The Forum 2301 S. Stearman Dr. Chandler\, AZ 85286
UID:e.1561.19197
SEQUENCE:3
DTSTAMP:20260424T035320Z
URL:https://business.chandlerchamber.com/events/details/adults-only-halloween-costume-party-19197
END:VEVENT

END:VCALENDAR
