BEGIN:VCALENDAR
VERSION:2.0
PRODID:-//ChamberMaster//Event Calendar 2.0//EN
METHOD:PUBLISH
X-PUBLISHED-TTL:P3D
REFRESH-INTERVAL:P3D
CALSCALE:GREGORIAN
BEGIN:VEVENT
DTSTART:20230325T170000Z
DTEND:20230325T190000Z
X-MICROSOFT-CDO-ALLDAYEVENT:FALSE
SUMMARY:Advanced IRA Strategies: Secrets of Roth\, Multi-generational & Self Directed IRA's
DESCRIPTION:Advanced IRA Strategies: \n\nSecrets of Roth\, Multi-Generational & Self Directed IRA's\n\n\n\nLooking for proven alternatives to Wall Street investments ?\n\nWant to add millions to your net worth while reducing taxes? \n\nEnjoy lots of money for your bucket list dreams! \n\n\n\nOptimizing your IRA with rarely used advanced IRA strategies can provide tremendous tremendous benefits.  A Roth IRA conversation allows tax free earnings for life.  The Multi generational IRA can double income for your heirs.  A self directed IRA can provide lucrative alternatives to Wall Street investments.  Dr Wong will explain: \n\nWhy traditional IRAs and 401Ks are a ticking time bomb!\n\nHow to do Roth IRA Conversions and pay no federal income tax\n\nHow the economic opportunity cost /  benefit for Roth Conversions can add millions of net worth!\n\nHow the Inflation Reuction Act allows you to revocer all federal taxes paid in the last 3 years\n\nHow self-directed IRAs help you strategically invest in Real Estate & other alternatives!
X-ALT-DESC;FMTTYPE=text/html:<p style="color: rgb(51\, 51\, 51)\; font-family: sans-serif\, Arial\, Verdana\, &quot\;Trebuchet MS&quot\;\; font-size: 13px\;">Advanced IRA Strategies:&nbsp\;</p>\n\n<p style="color: rgb(51\, 51\, 51)\; font-family: sans-serif\, Arial\, Verdana\, &quot\;Trebuchet MS&quot\;\; font-size: 13px\;">Secrets of Roth\, Multi-Generational &amp\; Self Directed IRA&#39\;s<br />\n<br />\nLooking for proven alternatives to Wall Street investments ?<br />\nWant to add millions to your net worth while reducing taxes?&nbsp\;<br />\nEnjoy lots of money for your bucket list dreams!&nbsp\;<br />\n<br />\nOptimizing your IRA with rarely used advanced IRA strategies can provide tremendous tremendous benefits.&nbsp\; A Roth IRA conversation allows tax free earnings for life.&nbsp\; The Multi generational IRA can double income for your heirs.&nbsp\; A self directed IRA can provide lucrative alternatives to Wall Street investments.&nbsp\; Dr Wong will explain:&nbsp\;<br />\nWhy traditional IRAs and 401Ks are a ticking time bomb!<br />\nHow to do Roth IRA Conversions and pay no federal income tax<br />\nHow the economic opportunity cost /&nbsp\; benefit for Roth Conversions can add millions of net worth!<br />\nHow the Inflation Reuction Act allows you to revocer all federal taxes paid in the last 3 years<br />\nHow self-directed IRAs help you strategically invest in Real Estate &amp\; other alternatives!<br />\n&nbsp\;</p>\n
LOCATION:Hyatt Place Chandler 3535 W Chandler Blvd\, Chandler\, AZ 85226
UID:e.1561.44683
SEQUENCE:3
DTSTAMP:20260423T203044Z
URL:https://business.chandlerchamber.com/events/details/advanced-ira-strategies-secrets-of-roth-multi-generational-self-directed-ira-s-44683
END:VEVENT

END:VCALENDAR
