BEGIN:VCALENDAR
VERSION:2.0
PRODID:-//ChamberMaster//Event Calendar 2.0//EN
METHOD:PUBLISH
X-PUBLISHED-TTL:P3D
REFRESH-INTERVAL:P3D
CALSCALE:GREGORIAN
BEGIN:VEVENT
DTSTART:20171020T020000Z
DTEND:20171020T040000Z
X-MICROSOFT-CDO-ALLDAYEVENT:FALSE
SUMMARY:Alamo Drafthouse with Chandler Museum presents Chuck Wagon Westerns
DESCRIPTION:Join Alamo and Chandler Museum for three special screenings of Chuck Wagon Westerns during the month of October to celebrate the 8th Annual Chandler Chuck Wagon Cook-Off\, taking place November 10   11. Mark your calendar for October 5\, October 19 and October 26. Movies start at 7 p.m. and tickets are $9. On Thursday\, October 19\, see Kevin Kline\, Danny Glover\, Kevin Costner and Scott Glenn travel to the city of "Silverado." In 1880\, four men travel (Kline\, Glover\, Costner\, and Glenn) together to the city of Silverado. They come across many dangers before they finally engage the "bad guys" and bring peace and equality back to the city.
X-ALT-DESC;FMTTYPE=text/html:Join Alamo and Chandler Museum for three special screenings of Chuck Wagon Westerns during the month of October to celebrate the 8th Annual Chandler Chuck Wagon Cook-Off\, taking place November 10 &ndash\; 11. Mark your calendar for October 5\, October 19 and October 26. Movies start at 7 p.m. and tickets are $9. On Thursday\, October 19\, see Kevin Kline\, Danny Glover\, Kevin Costner and Scott Glenn travel to the city of &ldquo\;Silverado.&rdquo\; In 1880\, four men travel (Kline\, Glover\, Costner\, and Glenn) together to the city of Silverado. They come across many dangers before they finally engage the &quot\;bad guys&quot\; and bring peace and equality back to the city.
LOCATION:Alamo Drafthouse 4955 S Arizona Ave. Chandler\, AZ 85248
UID:e.1561.19151
SEQUENCE:3
DTSTAMP:20260424T035509Z
URL:https://business.chandlerchamber.com/events/details/alamo-drafthouse-with-chandler-museum-presents-chuck-wagon-westerns-10-19-2017-19151
END:VEVENT

END:VCALENDAR
