BEGIN:VCALENDAR
VERSION:2.0
PRODID:-//ChamberMaster//Event Calendar 2.0//EN
METHOD:PUBLISH
X-PUBLISHED-TTL:P3D
REFRESH-INTERVAL:P3D
CALSCALE:GREGORIAN
BEGIN:VEVENT
DTSTART:20171027T020000Z
DTEND:20171027T040000Z
X-MICROSOFT-CDO-ALLDAYEVENT:FALSE
SUMMARY:Alamo Drafthouse with Chandler Museum presents Chuck Wagon Westerns
DESCRIPTION:On Thursday\, October 26\, watch the comedy antics of Jodie Foster\, James Garner and Mel Gibson in "Maverick." Ante up   for laughter and action aplenty! Mel Gibson is sly gambler Bret Maverick\, Jodie Foster is a charming scam artist and James Garner (the original Bret Maverick from the Emmy-winning TV series) is a laid-back lawman in this crowd-pleaser that deals you a winning hand. A riverboat poker tourney promises a winner-take-all $500\,000 and Bret aims to be the winner who does the taking! But first he must cope with the hangman's noose\, a runaway stage\, a wily Indian chief\, outlaws\, ingrates\, rattlesnakes and more close calls than a long-tailed cat in a roomful of rocking chairs. Under the wily direction of Richard Donner (LETHAL WEAPON\, THE GOONIES)\, these jokers are wild!
X-ALT-DESC;FMTTYPE=text/html:On Thursday\, October 26\, watch the comedy antics of Jodie Foster\, James Garner and Mel Gibson in &ldquo\;Maverick.&rdquo\; Ante up &ndash\; for laughter and action aplenty! Mel Gibson is sly gambler Bret Maverick\, Jodie Foster is a charming scam artist and James Garner (the original Bret Maverick from the Emmy-winning TV series) is a laid-back lawman in this crowd-pleaser that deals you a winning hand. A riverboat poker tourney promises a winner-take-all $500\,000&hellip\;and Bret aims to be the winner who does the taking! But first he must cope with the hangman&rsquo\;s noose\, a runaway stage\, a wily Indian chief\, outlaws\, ingrates\, rattlesnakes and more close calls than a long-tailed cat in a roomful of rocking chairs. Under the wily direction of Richard Donner (LETHAL WEAPON\, THE GOONIES)\, these jokers are wild!
LOCATION:Alamo Drafthouse 4955 S Arizona Ave. Chandler\, AZ 85248
UID:e.1561.19152
SEQUENCE:3
DTSTAMP:20260424T051433Z
URL:https://business.chandlerchamber.com/events/details/alamo-drafthouse-with-chandler-museum-presents-chuck-wagon-westerns-10-26-2017-19152
END:VEVENT

END:VCALENDAR
