BEGIN:VCALENDAR
VERSION:2.0
PRODID:-//ChamberMaster//Event Calendar 2.0//EN
METHOD:PUBLISH
X-PUBLISHED-TTL:P3D
REFRESH-INTERVAL:P3D
CALSCALE:GREGORIAN
BEGIN:VEVENT
DTSTART:20190717T203000Z
DTEND:20190717T223000Z
X-MICROSOFT-CDO-ALLDAYEVENT:FALSE
SUMMARY:Alive Inside Special Engagement
DESCRIPTION:Copper Creek Inn presents a special screening of the stirring documentary\, Alive Inside\, for families caring for loved ones with dementia. The discussion afterwards will focus on specific music tools to help family members benefit from the research by the non-profit organization Music & Memory.
X-ALT-DESC;FMTTYPE=text/html:Copper Creek Inn presents a special screening of the stirring documentary\, Alive Inside\, for families caring for loved ones with dementia. The discussion afterwards will focus on specific music tools to help family members benefit from the research by the non-profit organization Music &amp\; Memory.
LOCATION:The Park at Copper Creek 901 S 94th St Chandler 85224
UID:e.1561.36779
SEQUENCE:3
DTSTAMP:20260422T230423Z
URL:https://business.chandlerchamber.com/events/details/alive-inside-special-engagement-36779
END:VEVENT

END:VCALENDAR
