BEGIN:VCALENDAR
VERSION:2.0
PRODID:-//ChamberMaster//Event Calendar 2.0//EN
METHOD:PUBLISH
X-PUBLISHED-TTL:P3D
REFRESH-INTERVAL:P3D
CALSCALE:GREGORIAN
BEGIN:VEVENT
DTSTART:20260101T030000Z
DTEND:20260101T050000Z
X-MICROSOFT-CDO-ALLDAYEVENT:FALSE
SUMMARY:ALL ABOUT BROADWAY: A NEW YEAR'S EVE CELEBRATION
DESCRIPTION:Celebrate New Year's Eve with All About Broadway: A New Year's Eve Celebration! This exciting production brings the magic of Broadway to life with iconic songs from timeless shows like Phantom of the Opera\, Wicked\, and Mamma Mia\, alongside modern favorites like Hamilton\, Moulin Rouge\, and Neil Diamond's Beautiful Noise\, all performed by six vocalists and a 10-piece orchestra. Featuring a champagne toast\, party favors\, photo opportunities\, and a balloon drop\, this event is produced and led by JR McAlexander\, musical director of Showtune Productions.
X-ALT-DESC;FMTTYPE=text/html:Celebrate New Year&#39\;s Eve with All About Broadway: A New Year&#39\;s Eve Celebration! This exciting production brings the magic of Broadway to life with iconic songs from timeless shows like Phantom of the Opera\, Wicked\, and Mamma Mia\, alongside modern favorites like Hamilton\, Moulin Rouge\, and Neil Diamond&rsquo\;s Beautiful Noise\, all performed by six vocalists and a 10-piece orchestra. Featuring a champagne toast\, party favors\, photo opportunities\, and a balloon drop\, this event is produced and led by JR McAlexander\, musical director of Showtune Productions.
LOCATION:Chandler Center for the Arts 250 N Arizona Ave Chandler Az 85225
UID:e.1561.51759
SEQUENCE:3
DTSTAMP:20260424T064001Z
URL:https://business.chandlerchamber.com/events/details/all-about-broadway-a-new-year-s-eve-celebration-51759
END:VEVENT

END:VCALENDAR
