BEGIN:VCALENDAR
VERSION:2.0
PRODID:-//ChamberMaster//Event Calendar 2.0//EN
METHOD:PUBLISH
X-PUBLISHED-TTL:P3D
REFRESH-INTERVAL:P3D
CALSCALE:GREGORIAN
BEGIN:VEVENT
DTSTART:20171003T190000Z
DTEND:20171003T200000Z
X-MICROSOFT-CDO-ALLDAYEVENT:FALSE
SUMMARY:Ambassador Committee Meeting
DESCRIPTION:Join the Chandler Chamber's Ambassador Committee at their monthly meeting
X-ALT-DESC;FMTTYPE=text/html:<span style="color: rgb(51\, 51\, 51)\; font-family: sans-serif\, Arial\, Verdana\, &quot\;Trebuchet MS&quot\;\; font-size: 13px\; background-color: rgb(255\, 255\, 255)\;">Join the Chandler Chamber&#39\;s Ambassador Committee at their monthly meeting</span>
LOCATION:25 S Arizona Pl.\, Suite 201 Chandler\, AZ 85225
UID:e.1561.19165
SEQUENCE:3
DTSTAMP:20260424T035214Z
URL:https://business.chandlerchamber.com/events/details/ambassador-committee-meeting-10-03-2017-19165
END:VEVENT

END:VCALENDAR
