BEGIN:VCALENDAR
VERSION:2.0
PRODID:-//ChamberMaster//Event Calendar 2.0//EN
METHOD:PUBLISH
X-PUBLISHED-TTL:P3D
REFRESH-INTERVAL:P3D
CALSCALE:GREGORIAN
BEGIN:VEVENT
DTSTART:20170802T064500Z
DTEND:20170801T200000Z
X-MICROSOFT-CDO-ALLDAYEVENT:FALSE
SUMMARY:Ambassador Committee Meeting
DESCRIPTION:Join the Chandler Chamber Ambassadors for their monthly meeting
X-ALT-DESC;FMTTYPE=text/html:Join the Chandler Chamber Ambassadors for their monthly meeting&nbsp\;
LOCATION:Chandler Chamber of Commerce 25 S. Arizona Place Suite 201 Chandler\, AZ 85225 NE Corner Boston Street & Arizona Place
UID:e.1561.19104
SEQUENCE:3
DTSTAMP:20260424T063855Z
URL:https://business.chandlerchamber.com/events/details/ambassador-committee-meeting-19104
END:VEVENT

END:VCALENDAR
