BEGIN:VCALENDAR
VERSION:2.0
PRODID:-//ChamberMaster//Event Calendar 2.0//EN
METHOD:PUBLISH
X-PUBLISHED-TTL:P3D
REFRESH-INTERVAL:P3D
CALSCALE:GREGORIAN
BEGIN:VEVENT
DTSTART:20180710T180000Z
DTEND:20180710T190000Z
X-MICROSOFT-CDO-ALLDAYEVENT:FALSE
SUMMARY:Ambassador Committee Meeting
DESCRIPTION:Chandler Chamber Ambassador Monthly Meeting
X-ALT-DESC;FMTTYPE=text/html:Chandler Chamber Ambassador Monthly Meeting<br />\n&nbsp\;
LOCATION:25 S Arizona Pl.\, Suite 201 Chandler AZ 85225
UID:e.1561.33698
SEQUENCE:3
DTSTAMP:20260423T150954Z
URL:https://business.chandlerchamber.com/events/details/ambassador-committee-meeting-33698
END:VEVENT

END:VCALENDAR
