BEGIN:VCALENDAR
VERSION:2.0
PRODID:-//ChamberMaster//Event Calendar 2.0//EN
METHOD:PUBLISH
X-PUBLISHED-TTL:P3D
REFRESH-INTERVAL:P3D
CALSCALE:GREGORIAN
BEGIN:VEVENT
DTSTART:20190402T190000Z
DTEND:20190402T200000Z
X-MICROSOFT-CDO-ALLDAYEVENT:FALSE
SUMMARY:Ambassador Committee Meeting
DESCRIPTION:Ambassador Monthly Committee Meeting
X-ALT-DESC;FMTTYPE=text/html:Ambassador Monthly Committee Meeting&nbsp\;&nbsp\;&nbsp\;&nbsp\;&nbsp\;&nbsp\;&nbsp\;&nbsp\;&nbsp\;&nbsp\;&nbsp\;&nbsp\;
LOCATION:25 S Arizona Pl.\, Suite 201 Chandler\, AZ 85225
UID:e.1561.35946
SEQUENCE:3
DTSTAMP:20260423T033329Z
URL:https://business.chandlerchamber.com/events/details/ambassador-committee-meeting-35946
END:VEVENT

END:VCALENDAR
