BEGIN:VCALENDAR
VERSION:2.0
PRODID:-//ChamberMaster//Event Calendar 2.0//EN
METHOD:PUBLISH
X-PUBLISHED-TTL:P3D
REFRESH-INTERVAL:P3D
CALSCALE:GREGORIAN
BEGIN:VEVENT
DTSTART:20170711T185500Z
DTEND:20170711T200000Z
X-MICROSOFT-CDO-ALLDAYEVENT:FALSE
SUMMARY:Ambassadors Committee
DESCRIPTION:The Ambassadors serve as hosts for the Chamber events. This select group of individuals is the liaison between the Chamber and the business community. If you have been a member of the Chamber for over three months and are interested in joining please the Chandler Chamber at (480) 963-4571
X-ALT-DESC;FMTTYPE=text/html:<span style="color: rgb(68\, 68\, 68)\; font-family: 'Helvetica Neue'\, Arial\, sans-serif\; font-size: 13px\; line-height: 18px\; background-color: rgb(250\, 250\, 250)\;">The Ambassadors serve as hosts for the Chamber events. This select group of individuals is the liaison between the Chamber and the business community. If you have been a member of the Chamber for over three months and are interested in joining please the Chandler Chamber at (480) 963-4571</span><br />\n<br />\n&nbsp\;
LOCATION:Chandler Chamber of Commerce 25 S. Arizona Place Suite 201 Chandler\, AZ 85225 NE Corner Boston Street & Arizona Place
UID:e.1561.19086
SEQUENCE:3
DTSTAMP:20260424T075930Z
URL:https://business.chandlerchamber.com/events/details/ambassadors-committee-19086
END:VEVENT

END:VCALENDAR
