BEGIN:VCALENDAR
VERSION:2.0
PRODID:-//ChamberMaster//Event Calendar 2.0//EN
METHOD:PUBLISH
X-PUBLISHED-TTL:P3D
REFRESH-INTERVAL:P3D
CALSCALE:GREGORIAN
BEGIN:VEVENT
DTSTART:20150602T185500Z
DTEND:20150602T200000Z
X-MICROSOFT-CDO-ALLDAYEVENT:FALSE
SUMMARY:Ambassadors Committee Meeting
DESCRIPTION:The Ambassadors serve as hosts for the Chamber events. This select group of individuals is the liaison between the Chamber and the business community. If you have been a member of the Chamber for over three months and are interested in joining please the Chandler Chamber at (480) 963-4571
X-ALT-DESC;FMTTYPE=text/html:<span style="background:#FAFAFA\;"><span style="color:#444444\;"><span style="font-family:arial\,sans-serif\;"><span style="font-size:10.0pt\;">The Ambassadors serve as hosts for the Chamber events. This select group of individuals is the liaison between the Chamber and the business community. If you have been a member of the Chamber for over three months and are interested in joining please the Chandler Chamber at (480) 963-4571</span></span></span></span><br />\n<br />\n&nbsp\;
LOCATION:Liv Avenida 3250 S Arizona Ave Chandler\, AZ 85248
UID:e.1561.11968
SEQUENCE:3
DTSTAMP:20260425T213307Z
URL:https://business.chandlerchamber.com/events/details/ambassadors-committee-meeting-06-02-2015-11968
END:VEVENT

END:VCALENDAR
