BEGIN:VCALENDAR
VERSION:2.0
PRODID:-//ChamberMaster//Event Calendar 2.0//EN
METHOD:PUBLISH
X-PUBLISHED-TTL:P3D
REFRESH-INTERVAL:P3D
CALSCALE:GREGORIAN
BEGIN:VEVENT
DTSTART:20150901T185500Z
DTEND:20150901T200000Z
X-MICROSOFT-CDO-ALLDAYEVENT:FALSE
SUMMARY:Ambassadors Committee Meeting
DESCRIPTION:The Ambassadors serve as hosts for the Chamber events. This select group of individuals is the liaison between the Chamber and the business community. If you have been a member of the Chamber for over three months and are interested in joining please the Chandler Chamber at (480) 963-4571
X-ALT-DESC;FMTTYPE=text/html:<span style="background:#FAFAFA\;"><span style="color:#444444\;"><span style="font-family:arial\,sans-serif\;"><span style="font-size:10.0pt\;">The Ambassadors serve as hosts for the Chamber events. This select group of individuals is the liaison between the Chamber and the business community. If you have been a member of the Chamber for over three months and are interested in joining please the Chandler Chamber at (480) 963-4571</span></span></span></span><br>\n<br>\n&nbsp\;
LOCATION:Chandler Chamber of Commerce 25 S. Arizona Place\, Suite 201 Chandler\, AZ 85225
UID:e.1561.11971
SEQUENCE:3
DTSTAMP:20260425T170041Z
URL:https://business.chandlerchamber.com/events/details/ambassadors-committee-meeting-09-01-2015-11971
END:VEVENT

END:VCALENDAR
