BEGIN:VCALENDAR
VERSION:2.0
PRODID:-//ChamberMaster//Event Calendar 2.0//EN
METHOD:PUBLISH
X-PUBLISHED-TTL:P3D
REFRESH-INTERVAL:P3D
CALSCALE:GREGORIAN
BEGIN:VEVENT
DTSTART:20150914T230000Z
DTEND:20150915T010000Z
X-MICROSOFT-CDO-ALLDAYEVENT:FALSE
SUMMARY:American Cancer Society: Look Good Feel Better
DESCRIPTION:AMERICAN CANCER SOCIETY: LOOK GOOD FEEL BETTER (For Cancer Patients) Ironwood Cancer & Research Centers September 14th from 4-6pm 1432 S. Dobson Rd. Ste 106\, Mesa\, AZ 85206 Register: Sandra Surgeon 480-855-2224 www.ironwoodcrc.com
X-ALT-DESC;FMTTYPE=text/html:AMERICAN CANCER SOCIETY: LOOK GOOD FEEL BETTER (For Cancer Patients) Ironwood Cancer &amp\; Research Centers September 14th from 4-6pm 1432 S. Dobson Rd. Ste 106\, Mesa\, AZ 85206 Register: Sandra Surgeon 480-855-2224 www.ironwoodcrc.com
LOCATION:Ironwood Cancer & Research Centers 1432 S. Dobson Rd. Ste 106\, Mesa\, AZ 85206
UID:e.1561.13153
SEQUENCE:3
DTSTAMP:20260425T170516Z
URL:https://business.chandlerchamber.com/events/details/american-cancer-society-look-good-feel-better-09-14-2015-13153
END:VEVENT

END:VCALENDAR
