BEGIN:VCALENDAR
VERSION:2.0
PRODID:-//ChamberMaster//Event Calendar 2.0//EN
METHOD:PUBLISH
X-PUBLISHED-TTL:P3D
REFRESH-INTERVAL:P3D
CALSCALE:GREGORIAN
BEGIN:VEVENT
DTSTART:20150928T230000Z
DTEND:20150929T010000Z
X-MICROSOFT-CDO-ALLDAYEVENT:FALSE
SUMMARY:American Cancer Society: Look Good Feel Better
DESCRIPTION:AMERICAN CANCER SOCIETY: LOOK GOOD FEEL BETTER (For Cancer Patients) Ironwood Cancer & Research Centers Sept 28th from 4-6pm 3686 S. Rome St.\, Gilbert\, AZ 85297 Register: Sandra Surgeon 480-855-2224 www.ironwoodcrc.com
X-ALT-DESC;FMTTYPE=text/html:AMERICAN CANCER SOCIETY: LOOK GOOD FEEL BETTER (For Cancer Patients) Ironwood Cancer &amp\; Research Centers Sept 28th from 4-6pm 3686 S. Rome St.\, Gilbert\, AZ 85297 Register: Sandra Surgeon 480-855-2224 www.ironwoodcrc.com
LOCATION:Ironwood Cancer & Research Centers
UID:e.1561.13152
SEQUENCE:3
DTSTAMP:20260425T184028Z
URL:https://business.chandlerchamber.com/events/details/american-cancer-society-look-good-feel-better-09-28-2015-13152
END:VEVENT

END:VCALENDAR
