BEGIN:VCALENDAR
VERSION:2.0
PRODID:-//ChamberMaster//Event Calendar 2.0//EN
METHOD:PUBLISH
X-PUBLISHED-TTL:P3D
REFRESH-INTERVAL:P3D
CALSCALE:GREGORIAN
BEGIN:VEVENT
DTSTART:20190508T170000Z
DTEND:20190509T040000Z
X-MICROSOFT-CDO-ALLDAYEVENT:FALSE
SUMMARY:American Eagle Grand Opening
DESCRIPTION:Grand Opening:\n\nAmerican Eagle's high quality\, on-trend clothing is opening their doors Wednesday\, May 8\, 2019 at 10AM. The Outlet location will carry AE's collection including modern basics like jeans\, surplus and graphic tees as well as a stylish assortment of cool accessories\, outerwear\, footwear and swimwear.
X-ALT-DESC;FMTTYPE=text/html:<p><span style="font-size:16px"><span style="font-family:simoncircularpro-bold\,sans-serif"><strong>Grand Opening</strong>:</span></span></p>\n\n<p><span style="font-size:14px">American Eagle&#39\;s high quality\, on-trend clothing is opening their doors Wednesday\, May 8\, 2019 at 10AM. The Outlet location will carry AE&#39\;s collection including modern basics like jeans\, surplus and graphic tees as well as a stylish assortment of cool accessories\, outerwear\, footwear and swimwear.&nbsp\;</span></p>\n
LOCATION:Phoenix Premium Outlets next to Dairy Queen 4976 Premium Outlets Way Chandler\, AZ 85226
UID:e.1561.36705
SEQUENCE:3
DTSTAMP:20260423T020945Z
URL:https://business.chandlerchamber.com/events/details/american-eagle-grand-opening-36705
END:VEVENT

END:VCALENDAR
