BEGIN:VCALENDAR
VERSION:2.0
PRODID:-//ChamberMaster//Event Calendar 2.0//EN
METHOD:PUBLISH
X-PUBLISHED-TTL:P3D
REFRESH-INTERVAL:P3D
CALSCALE:GREGORIAN
BEGIN:VEVENT
DTSTART:20220406T170000Z
DTEND:20220526T000000Z
X-MICROSOFT-CDO-ALLDAYEVENT:FALSE
SUMMARY:American Farmer
DESCRIPTION:This exhibition features forty-five iconic portraits showing the geographic and cultural diversity of the American Farmer. This vivid portfolio from photographer Paul Mobley is accompanied by anecdotes and memories in the farmers' own words. The images and words are both a testament to the farmers' enduring hospitality and a glimpse into the hardships and joys of their way of life one that once defined our national identity. This exhibition is a program of ExhibitsUSA\, a national division of Mid-America Arts Alliance\, and The National Endowment for the Arts. General Information: 480-782-2717 chandlermuseum.org Free Admission Tuesday-Saturday 10am-5pm\, Sunday 1-5pm\, Closed Monday East Valley History Center\, Thursdays\, 2-5pm Closures: Sunday\, April 17
X-ALT-DESC;FMTTYPE=text/html:This exhibition features forty-five iconic portraits showing the geographic and cultural diversity of the American Farmer. This vivid portfolio from photographer Paul Mobley is accompanied by anecdotes and memories in the farmers&rsquo\; own words. The images and words are both a testament to the farmers&rsquo\; enduring hospitality and a glimpse into the hardships and joys of their way of life&mdash\;one that once defined our national identity. This exhibition is a program of ExhibitsUSA\, a national division of Mid-America Arts Alliance\, and The National Endowment for the Arts. General Information: 480-782-2717 chandlermuseum.org Free Admission Tuesday-Saturday 10am-5pm\, Sunday 1-5pm\, Closed Monday East Valley History Center\, Thursdays\, 2-5pm Closures: Sunday\, April 17
LOCATION:Chandler Museum 300 S. Chandler Village Drive Chandler\, Arizona 85226
UID:e.1561.40642
SEQUENCE:3
DTSTAMP:20260423T204734Z
URL:https://business.chandlerchamber.com/events/details/american-farmer-40642
END:VEVENT

END:VCALENDAR
