BEGIN:VCALENDAR
VERSION:2.0
PRODID:-//ChamberMaster//Event Calendar 2.0//EN
METHOD:PUBLISH
X-PUBLISHED-TTL:P3D
REFRESH-INTERVAL:P3D
CALSCALE:GREGORIAN
BEGIN:VEVENT
DTSTART:20200328T180000Z
DTEND:20200328T210000Z
X-MICROSOFT-CDO-ALLDAYEVENT:FALSE
SUMMARY:aMUSEment- Patio Play
DESCRIPTION:Enjoy the Arizona sunshine on the grounds of the Chandler Museum as we explore outdoor games like croquet and horseshoes. Enjoy a glass of fresh squeezed lemonade on the patio and be sure to also check out our traveling exhibit Patios\, Pools\, and the Invention of the American Backyard.
X-ALT-DESC;FMTTYPE=text/html:Enjoy the Arizona sunshine on the grounds of the Chandler Museum as we explore outdoor games like croquet and horseshoes. Enjoy a glass of fresh squeezed lemonade on the patio and be sure to also check out our traveling exhibit Patios\, Pools\, and the Invention of the American Backyard.
LOCATION:Chandler Museum
UID:e.1561.38811
SEQUENCE:3
DTSTAMP:20260424T163231Z
URL:https://business.chandlerchamber.com/events/details/amusement-patio-play-38811
END:VEVENT

END:VCALENDAR
