BEGIN:VCALENDAR
VERSION:2.0
PRODID:-//ChamberMaster//Event Calendar 2.0//EN
METHOD:PUBLISH
X-PUBLISHED-TTL:P3D
REFRESH-INTERVAL:P3D
CALSCALE:GREGORIAN
BEGIN:VEVENT
DTSTART:20200125T180000Z
DTEND:20200125T210000Z
X-MICROSOFT-CDO-ALLDAYEVENT:FALSE
SUMMARY:aMUSEment- We Can Do It! Fun from the 40s
DESCRIPTION:Come learn and play 1940's era games and see how the war influenced the activities and games that were available during that time in history.
X-ALT-DESC;FMTTYPE=text/html:Come learn and play 1940&rsquo\;s era games and see how the war influenced the activities and games that were available during that time in history.
LOCATION:Chandler Museum
UID:e.1561.38582
SEQUENCE:3
DTSTAMP:20260420T150418Z
URL:https://business.chandlerchamber.com/events/details/amusement-we-can-do-it-fun-from-the-40s-38582
END:VEVENT

END:VCALENDAR
